BEGIN:VCALENDAR
VERSION:2.0
PRODID:-//丹後海と星の見える丘公園-TANGO ECO FUTURE PARK- - ECPv4.9.2//NONSGML v1.0//EN
CALSCALE:GREGORIAN
METHOD:PUBLISH
X-WR-CALNAME:丹後海と星の見える丘公園-TANGO ECO FUTURE PARK-
X-ORIGINAL-URL:http://www.eco-future-park.jp
X-WR-CALDESC:Events for 丹後海と星の見える丘公園-TANGO ECO FUTURE PARK-
BEGIN:VEVENT
DTSTART;TZID=Asia/Tokyo:20221029T080000
DTEND;TZID=Asia/Tokyo:20221106T170000
DTSTAMP:20260423T054252
CREATED:20220928T040027Z
LAST-MODIFIED:20221101T092259Z
UID:4463-1667030400-1667754000@www.eco-future-park.jp
SUMMARY:【イベント】うみほしフォトフェスタ
DESCRIPTION:\nうみほしフォトフェスタ　 \n– umihoshi photo festa – \n\n期間；10月29日（土）～11月6日（日） \n  \n\n\n\nフォトマップはコチラ\n\n\n\n  \n  \n　うみほし公園で写真を撮る??　 \n \n  \n  \n上記の2週間は写真を撮るおすすめの期間！ \n秋の空気と豊かな自然の中で過ごした時間を \n撮って思い出を持って帰ろう♪ \n  \n \n  \n\n  \n■11月3日文化の日はフォトイベントの日 \n \n・無料チェキ撮影　 \n10時∼12時　風の谷　12時～15時　園内巡回（風の谷中心） \n「思い出チェキ」を撮ってもらおう！（1人1枚） \n　協力：宮津天橋高等学校写真部 \n・フォトスポット案内 \n  \n・キッチンカー出店予定！ \n  \n\n■11月６日㈯はうみほしデイ！ \n\n  \n■うみほしフォトコンテスト \n  \n  \nテーマは『うみほしでの思い出』 \n  \n  \n●応募方法 \n①うみほし公園公式Instagram・Twitterいずれかをフォロー \n（当選者の方には各SNSのダイレクトメッセージにてご連絡します） \n②フォトフェスタ期間内（10/29-11/6）にInstagram・Twitterにて \nハッシュタグ「#うみほしフォトコン2022」をつけて投稿。 \n  \n景品はペア宿泊券など公園に関わるものを用意しています。　 \n応募締め切りは11月6日㈰17時まで \n  \n●応募資格 \n・公園のTwitterまたはInstagramをフォローしている方 \n（当選の連絡を各ダイレクトメッセージで行うため） \n・撮影場所は丹後海と星の見える丘公園内で撮ったの写真であること \n（☆撮影日時は問いません、期間外の写真でも構いません） \n・日本国内にお住まいの方に限り、どなたでもご参加できます。 \n\n・未成年者（18 歳未満）の方は保護者の同意を得たうえでご応募ください \n  \n応募規約\n
URL:http://www.eco-future-park.jp/event/%e3%80%90%e3%82%a4%e3%83%99%e3%83%b3%e3%83%88%e3%80%91%e3%81%86%e3%81%bf%e3%81%bb%e3%81%97%e3%83%95%e3%82%a9%e3%83%88%e3%83%95%e3%82%a7%e3%82%b9%e3%82%bf%ef%bc%88%e5%be%90%e3%80%85%e3%81%ab%e6%83%85/
CATEGORIES:イベント,コンテスト,予告
ATTACH;FMTTYPE=image/jpeg:http://www.eco-future-park.jp/umihoshi/wp-content/uploads/2022/09/a0f7f8d8869b0aec32e215758de7173f-1.jpg
END:VEVENT
END:VCALENDAR