BEGIN:VCALENDAR
VERSION:2.0
PRODID:-//丹後海と星の見える丘公園-TANGO ECO FUTURE PARK- - ECPv4.9.2//NONSGML v1.0//EN
CALSCALE:GREGORIAN
METHOD:PUBLISH
X-WR-CALNAME:丹後海と星の見える丘公園-TANGO ECO FUTURE PARK-
X-ORIGINAL-URL:http://www.eco-future-park.jp
X-WR-CALDESC:Events for 丹後海と星の見える丘公園-TANGO ECO FUTURE PARK-
BEGIN:VEVENT
DTSTART;VALUE=DATE:20200726
DTEND;VALUE=DATE:20200727
DTSTAMP:20260425T120817
CREATED:20200703T021151Z
LAST-MODIFIED:20200721T003014Z
UID:2559-1595721600-1595807999@www.eco-future-park.jp
SUMMARY:【AM満員御礼！】うみほしDAY2020　～7月 流しそうめんキットづくりをしよう！～
DESCRIPTION:お待たせしました！2020年最初のうみほしDAYを開催します♪\n今年度よりうみほしDAYのしくみが少し変わります。\nAM：ツキイチ体験\n　毎月、季節に応じた自然体験を行います。自然のものを使った工作や調理体験などで丹後の自然を楽しみましょう！\nPM：森づくりデイ\n　森も「いきいき」、人も「いきいき」をコンセプトに、うみほし公園の森を生きものがくらしやすく、人も楽しくなる森づくりを参加者のみなさんと一緒にします。\n7月のツキイチ体験は、「流しそうめんキットづくり」\n→流しそうめんキットづくりは多数ご応募をいただきありがとございました。キャンセル待ちも満員となりました！ \n竹をわって、みがいて、流しそうめんキットをつくります。\n持って帰って、おうちで流しそうめんを楽しもう♪　\n \n森づくりDAYは、≪すてきな森づくりの第一歩！森を歩いてみよう♪≫\n→予約受付中です！参加したい方は下のフォームからご応募ください！ \n園内にある湿地とその周りを歩くことができる散策路。\n今は、草やササがたくさん生えているけど、ここを人も、生きものもいきいきできる場所にしていきましょう！\n\n※服装・持ち物：長そで、長ズボン、運動ぐつ、軍手、水とう \n  \n\n\n\n開催日時\n\n2020年7月26日（日）\n①午前の部（10:00～12:00）\n　　　　■流しそうめんキットづくり \n②午後の部（13:30～15:00）\n　　　　■森づくりDAY \n\n\n\n会場\n京都府立丹後海と星の見える丘公園\n　　　　　　　　セミナーハウス周辺\n\n\n対象\n小学生以上\n\n\n参加費\n\n①流しそうめんキットづくり　700円/人\n（原則、保護者の方もご参加ください。） \n②森づくりDAY　無料 \n\n\n\n申込\n予約優先\n\n\n定員\n\n①流しそうめんキットづくり　4組10名程度 \n②森づくりDAY　10名 \n\n\n\n\n  \n※現在、午前の部が満員のため午後の部のご応募のみとなっています。ご了承ください。 \n\n\n\n\n\n\n\n\n\n\n\nJapan \n\nお申込みフォーム\n※は必須項目 \n\n《参加者（代表者）のご連絡先》\n お名前 ※\n     \n\nフリガナ※\n\n\n\n性別※\n男女\n\n\n年齢※\n\n\n\n郵便番号※\n\n\n\nご住所※\n市区町村： \n\n 電話番号（当日確認ができる電話番号） (必須)\n \n ご希望日時 (必須)\n午前の部（10:00-12:00）午後の部（13:30-15:00）午前・午後の部（10:00-15:00）\n \n メールアドレス (必須)\n      \n その他ご質問（あれば）\n      \n\n追加参加者１\n\n氏名\n\n\n\nフリガナ\n\n\n\n性別\n選択してください男女\n\n\n年齢\n\n\n\n\n追加参加者２\n\n氏名\n\n\n\nフリガナ\n\n\n\n性別\n選択してください男女\n\n\n年齢\n\n\n\n\nこのプログラムを何で知りましたか？\nうみほし通信学校からのチラシ家族・知人からの紹介テレビ・ラジオ公園ホームページ公園facebookみやづお知らせ版府民だより新聞その他 \n\n\n今後、当公園からイベント等のご案内をお送りさせていただいても良いでしょうか？\n希望する希望しない \n\n \n \n\n \n\n
URL:http://www.eco-future-park.jp/event/%e3%80%90%e5%8b%9f%e9%9b%86%e9%96%8b%e5%a7%8b%ef%bc%81%e3%80%91%e3%81%86%e3%81%bf%e3%81%bb%e3%81%97day2020%ef%bd%9e7%e6%9c%88%ef%bd%9e-%e6%b5%81%e3%81%97%e3%81%9d%e3%81%86%e3%82%81%e3%82%93%e3%82%ad/
CATEGORIES:うみほしプレーパーク
ATTACH;FMTTYPE=image/jpeg:http://www.eco-future-park.jp/umihoshi/wp-content/uploads/2020/06/IMG_9635.jpg
END:VEVENT
END:VCALENDAR