BEGIN:VCALENDAR
VERSION:2.0
PRODID:-//丹後海と星の見える丘公園-TANGO ECO FUTURE PARK- - ECPv4.9.2//NONSGML v1.0//EN
CALSCALE:GREGORIAN
METHOD:PUBLISH
X-WR-CALNAME:丹後海と星の見える丘公園-TANGO ECO FUTURE PARK-
X-ORIGINAL-URL:http://www.eco-future-park.jp
X-WR-CALDESC:Events for 丹後海と星の見える丘公園-TANGO ECO FUTURE PARK-
BEGIN:VEVENT
DTSTART;TZID=Asia/Tokyo:20240317T100000
DTEND;TZID=Asia/Tokyo:20240317T150000
DTSTAMP:20260422T195457
CREATED:20240109T075502Z
LAST-MODIFIED:20240112T014517Z
UID:5469-1710669600-1710687600@www.eco-future-park.jp
SUMMARY:うみほしデイ！-月に一度のちょっと特別な日♪-　（3月　受付中！）
DESCRIPTION:うみほしデイ！ \n\nうみほし公園でちょっと特別な一日♪（月一開催） \n\n〇●〇●〇●〇●〇●〇●〇●〇●〇●〇●〇●〇●〇●〇●〇●〇●〇●〇●〇●〇●〇●〇●〇●〇●〇●\n\n■3月17日（日）　ガーデニングデイ＆森づくりデイ\n \n\n〇●〇●〇●〇●〇●〇●〇●〇●〇●〇●〇●〇●〇●〇●〇●〇●〇●〇●〇●〇●〇●〇●〇●〇●〇● \n\n□ガーデニングデイ　お花を植えて公園をカラフルに♪　タネをまいてキッチンガーデンをつくろう‼ \n\n\n  \n\n\n　　時間：10：00-12：00　※雨天中止 \n\n\n　　参加費：無料　　定員：10名 \n  \n\n\n□森づくりデイ　　森に入って、大人もこどもも五感を使って自然を楽しもう‼ \n\n\n　　時間：13：30-15：00 \n　　参加費：無料　　定員：10名 \n\n \n\n\n\n\n持ち物 \nガーデニングデイ　 \n〇服装（長袖・長ズボン） \n〇シューズ（長靴） \n〇帽子　〇軍手　〇タオル　〇飲料水 \n  \n森づくりデイ　 \n\n\n〇服装（長袖・長ズボン）＋雨具（雨天時に着用します） \n\n\n〇シューズ（動きやすいモノ・靴下　※サンダル不可・雨天時は長靴 \n\n\n〇帽子　〇軍手　〇タオル　〇飲料水 \n\n\n\n\n\n \n\n\n\n\n\n\n開催日時 \n\n\n2024年3月17日（日） \nガーデニングデイ→10:00‐12:00\n森づくりデイ→13:30‐15:00\n \n\n\n\n集合場所\n\nガーデニング→京都府立丹後海と星の見える丘公園　セミナーハウス \n森づくり→京都府立丹後海と星の見える丘公園　こどもの森　ワークショップルーム \n\n\n\n\n\n\n※お申し込みの方には再度詳細をお送りします。 \n\n\n  \n\n\n受付完了はメールにて自動メールにてお知らせいたします。 \n\n\n  \n\n\n\n\n\n\n\n\n\n\n\n\n\nJapan \n\nお申込みフォーム\n※は必須項目 \n\n《代表者様のご連絡先》\n お名前 ※\n     \n\nフリガナ※\n\n\n\n性別※\n男女\n\n\n年齢※\n\n\n\n郵便番号※\n\n\n\nご住所※\n市区町村： \n\n\n電話番号※\n\n\n\nご希望のイベント※\nガーデニングデイ森づくりデイ\n\n\n メールアドレス ※\n    \n \n\n今後、当公園からイベント等のご案内をお送りさせていただいても良いでしょうか？\n希望する希望しない\n \n その他ご質問（あれば）\n    \n \n\n参加者１\n\n氏名\n\n\n\nフリガナ\n\n\n\n性別\n選択してください男女\n\n\n年齢\n\n\n\n\n参加者２\n\n氏名\n\n\n\nフリガナ\n\n\n\n性別\n選択してください男女\n\n\n年齢\n\n\n\n\n参加者３\n\n氏名\n\n\n\nフリガナ\n\n\n\n性別\n選択してください男女\n\n\n年齢\n\n\n\n \n \n\n \n\n\n
URL:http://www.eco-future-park.jp/event/%e3%81%86%e3%81%bf%e3%81%bb%e3%81%97%e3%83%87%e3%82%a4%ef%bc%81-%e6%9c%88%e3%81%ab%e4%b8%80%e5%ba%a6%e3%81%ae%e3%81%a1%e3%82%87%e3%81%a3%e3%81%a8%e7%89%b9%e5%88%a5%e3%81%aa%e6%97%a5%e2%99%aa-6/
CATEGORIES:イベント,うみほしプレーパーク
ATTACH;FMTTYPE=image/jpeg:http://www.eco-future-park.jp/umihoshi/wp-content/uploads/2023/10/DSC_0890.jpg
END:VEVENT
END:VCALENDAR