BEGIN:VCALENDAR
VERSION:2.0
PRODID:-//丹後海と星の見える丘公園-TANGO ECO FUTURE PARK- - ECPv4.9.2//NONSGML v1.0//EN
CALSCALE:GREGORIAN
METHOD:PUBLISH
X-WR-CALNAME:丹後海と星の見える丘公園-TANGO ECO FUTURE PARK-
X-ORIGINAL-URL:http://www.eco-future-park.jp
X-WR-CALDESC:Events for 丹後海と星の見える丘公園-TANGO ECO FUTURE PARK-
BEGIN:VEVENT
DTSTART;TZID=Asia/Tokyo:20240414T100000
DTEND;TZID=Asia/Tokyo:20240414T130000
DTSTAMP:20260422T183717
CREATED:20240117T004605Z
LAST-MODIFIED:20240406T011557Z
UID:4834-1713088800-1713099600@www.eco-future-park.jp
SUMMARY:うみほしデイ！-月に一度のちょっと特別な日♪-　（４月　受付終了）
DESCRIPTION:うみほしデイ！ \nうみほし公園でちょっと特別な一日♪（月一開催） \n〇●〇●〇●〇●〇●〇●〇●〇●〇●〇●〇●〇●〇●〇●〇●〇●〇●〇●〇●〇●〇●〇●〇●〇●〇●\n\n■4月14日（日）　たけのこほりに行こう\n \n\n〇●〇●〇●〇●〇●〇●〇●〇●〇●〇●〇●〇●〇●〇●〇●〇●〇●〇●〇●〇●〇●〇●〇●〇●〇● \n\n□たけのこを掘って、みんなで食べよう！ \n\n\n　　　時間：10:00-13：00　　対象：小学生1-6年生と保護者の方（保護者参加必須）　 \n\n\n　　参加費：小学生以下は無料、中学生以上は1名につき3\,000円 \n　　　　　　※軽食（ホイル焼きとタケノコご飯）付き+掘ったタケノコは持ち帰り可能 \n　　　定員：10組20名程度 \n　　持ち物：長靴、汚れてもいい服装、タオル、水分 \n　　その他：・タケノコ掘りを行う場所まではバスと徒歩で向かいます。 \n　　　　　　・タケノコ掘りは大人でも難しいため、お子様と保護者さまセットでのお申込みをお願いします。 \n　　　　　　・雨天の場合は4月21日（日）に延期いたします。 \n\n\n　　　　　　・タケノコが生えていない場合等、内容を変更する場合があります。 \n  \n\n※お申し込みの方には再度詳細をお送りします。 \n  \n  \n  \n
URL:http://www.eco-future-park.jp/event/%e3%81%86%e3%81%bf%e3%81%bb%e3%81%97%e3%83%87%e3%82%a4%ef%bc%81-%e6%9c%88%e3%81%ab%e4%b8%80%e5%ba%a6%e3%81%ae%e3%81%a1%e3%82%87%e3%81%a3%e3%81%a8%e7%89%b9%e5%88%a5%e3%81%aa%e6%97%a5%e2%99%aa-5/
CATEGORIES:イベント,うみほしプレーパーク
ATTACH;FMTTYPE=image/jpeg:http://www.eco-future-park.jp/umihoshi/wp-content/uploads/2024/01/IMG_0786.jpg
END:VEVENT
END:VCALENDAR