BEGIN:VCALENDAR
VERSION:2.0
PRODID:-//丹後海と星の見える丘公園-TANGO ECO FUTURE PARK- - ECPv4.9.2//NONSGML v1.0//EN
CALSCALE:GREGORIAN
METHOD:PUBLISH
X-WR-CALNAME:丹後海と星の見える丘公園-TANGO ECO FUTURE PARK-
X-ORIGINAL-URL:http://www.eco-future-park.jp
X-WR-CALDESC:Events for 丹後海と星の見える丘公園-TANGO ECO FUTURE PARK-
BEGIN:VEVENT
DTSTART;TZID=Asia/Tokyo:20250608T103000
DTEND;TZID=Asia/Tokyo:20260329T153000
DTSTAMP:20260421T194038
CREATED:20250707T064159Z
LAST-MODIFIED:20250723T092552Z
UID:7033-1749378600-1774798200@www.eco-future-park.jp
SUMMARY:［毎週日曜日］うみほしプレーパーク
DESCRIPTION:うみほしプレーパーク \n〇●〇●〇●〇●〇●〇●〇●〇●〇●〇●〇●〇●〇●〇●〇●〇●〇●〇●〇●〇●〇●〇●〇●〇●〇●\n\n■うみほし公園で自然と遊び、自然に親しむ１日♪ \n\n〇●〇●〇●〇●〇●〇●〇●〇●〇●〇●〇●〇●〇●〇●〇●〇●〇●〇●〇●〇●〇●〇●〇●〇●〇● \n\n公園スタッフがプレイリーダーとなって、公園に遊びに来た皆さんを自然と遊び、自然に親しむサポートをする企画\n「うみほしプレイパーク」を毎週日曜日に開催します。\n「プレイリーダー」は 20 世紀後半にドイツでプレーパーク（冒険遊び場）が普及する中で広まった存在です。\nその役割は子どもに遊び方を教えたり、指示したりするのではなく、遊びを促したり、誘発したり、先導したりすることで、子どもたちが自ら遊びを創造し、発展させていくことをサポートすることです。 \n当日は日替わりでいろいろなスタッフが担当し、毎回別のスタッフ、別の活動をしてくれると思います。 \nうみほし公園のこどもの森で虫取り、生きもの観察、森の中のアスレチック、ハンモック、、、体いっぱい、自然で遊びましょう🎵 \n＜時間＞：毎週日曜日　10：30-15：30\n※12：00-13：00 は昼休みです。\n※その他企画や団体利用がある場合は中止の場合があります。 \n\n\n＜参加費＞無料 \n ＜持ち物＞ぼうし、長靴（あれば）、汚れてもいい服装、着替え、虫よけスプレー、タオル、水分など \n\n
URL:http://www.eco-future-park.jp/event/%e3%81%86%e3%81%bf%e3%81%bb%e3%81%97%e3%83%97%e3%83%ac%e3%83%bc%e3%83%91%e3%83%bc%e3%82%af%e3%80%80%e3%81%af%e3%81%98%e3%81%be%e3%82%8b%e3%82%88%ef%bc%81/
CATEGORIES:イベント,うみほしプレーパーク
ATTACH;FMTTYPE=image/jpeg:http://www.eco-future-park.jp/umihoshi/wp-content/uploads/2023/10/85c88e5adb25e66ce76359ced77bc968.jpg
END:VEVENT
BEGIN:VEVENT
DTSTART;TZID=Asia/Tokyo:20250921T130000
DTEND;TZID=Asia/Tokyo:20250921T143000
DTSTAMP:20260421T194038
CREATED:20250820T022620Z
LAST-MODIFIED:20250820T022620Z
UID:7186-1758459600-1758465000@www.eco-future-park.jp
SUMMARY:９月２１日　うみほしプレイパーク特別編【どんぐりようちえん】
DESCRIPTION:うみほしプレイパーク特別編　 \n  \nあの企画が帰ってきた！ \nどんぐりようちえん \n \n  \n今回の特別編は、森のカフェを特別営業いただいている「Itadaki」とのコラボ企画 \n  \n〇９月２１日㈰　　13:00～14:30 \n\n内容 \n・こばちゃんの絵本の読み聞かせ \n・うみほし公園とっしーの森遊び（親子時間、こどものみ時間あり） \n・Itadakiむっちゃんの米パン試食と食のお話（保護者対象） \n  \n対象：未就学児（２～６歳）と保護者 \n定員：５組（先着） \n参加費：１組1\,000円（子１、保護者１）　※追加の場合　500円/人 \n  \n□服装・持ち物 \n〇服装（長袖・長ズボン）＋雨具（雨天時に着用します） \n〇シューズ（動きやすいモノ・靴下　※サンダル不可・雨天時は長靴 \n〇帽子 \n〇タオル \n〇飲み物 \n※お申し込みの方には詳細をメールにてお送りします。 \n  \n\n\n\n\n\n\n\n\n\n\n\nJapan \n\nお申込みフォーム\n※は必須項目 \n\n《参加者（代表者）のご連絡先》\n\n氏名※\n\n\n\nフリガナ※\n\n\n\n性別※\n男女\n\n\n年齢※\n\n\n\n郵便番号※\n\n\n\nご住所※\n市区町村： \n\n\n番地以降：\n\n\n電話番号（当日確認ができる電話番号）※\n\n\n\n保護者氏名（参加者が未成年の場合）\n\n\n\nメールアドレス※\n\n\n\n\n追加参加者１\n\n氏名\n\n\n\nフリガナ\n\n\n\n性別\n選択してください男女\n\n\n年齢\n\n\n\n\n追加参加者２\n\n氏名\n\n\n\nフリガナ\n\n\n\n性別\n選択してください男女\n\n\n年齢\n\n\n\n\n追加参加者３\n\n氏名\n\n\n\nフリガナ\n\n\n\n性別\n選択してください男女\n\n\n年齢\n\n\n\n\nこのプログラムを何で知りましたか？\n学校からのチラシ家族・知人からの紹介テレビ・ラジオ公園ホームページ公園SNS府民だより新聞その他 \n\n\n今後、当公園からイベント等のご案内をお送りさせていただいても良いでしょうか？\n希望する希望しない \n\n \n \n\n \n\n
URL:http://www.eco-future-park.jp/event/%ef%bc%99%e6%9c%88%ef%bc%92%ef%bc%91%e6%97%a5%e3%80%80%e3%81%86%e3%81%bf%e3%81%bb%e3%81%97%e3%83%97%e3%83%ac%e3%82%a4%e3%83%91%e3%83%bc%e3%82%af%e7%89%b9%e5%88%a5%e7%b7%a8%e3%80%90%e3%81%a9%e3%82%93/
LOCATION:京都府立丹後海と星の見える丘公園\, 里波見\, 宮津市\, 京都府\, 626-0211\, Japan
CATEGORIES:うみほしプレーパーク
ATTACH;FMTTYPE=image/jpeg:http://www.eco-future-park.jp/umihoshi/wp-content/uploads/2025/08/be8dbe5a4a231843cdee390dcb2f0947.jpg
END:VEVENT
END:VCALENDAR