BEGIN:VCALENDAR
VERSION:2.0
PRODID:-//丹後海と星の見える丘公園-TANGO ECO FUTURE PARK- - ECPv4.9.2//NONSGML v1.0//EN
CALSCALE:GREGORIAN
METHOD:PUBLISH
X-WR-CALNAME:丹後海と星の見える丘公園-TANGO ECO FUTURE PARK-
X-ORIGINAL-URL:http://www.eco-future-park.jp
X-WR-CALDESC:Events for 丹後海と星の見える丘公園-TANGO ECO FUTURE PARK-
BEGIN:VEVENT
DTSTART;TZID=Asia/Tokyo:20210501T090000
DTEND;TZID=Asia/Tokyo:20210505T170000
DTSTAMP:20260422T011049
CREATED:20210412T071600Z
LAST-MODIFIED:20230818T044409Z
UID:3252-1619859600-1620234000@www.eco-future-park.jp
SUMMARY:【GWイベント情報】風車フェスティバル　中止
DESCRIPTION:風車フェスティバル　緊急事態宣言のため　中止・延長 \n \n　　　　（大階段からみた風の谷） \n  \n中止となていますが季節を変えて、風車フェスティバルはリベンジしたいとおもっていますので続報をお待ちください☆ \n  \n　　 \n  \n
URL:http://www.eco-future-park.jp/event/%e2%98%86%e9%a2%a8%e8%bb%8a%e3%83%95%e3%82%a7%e3%82%b9%e3%83%86%e3%82%a3%e3%83%90%e3%83%ab%e2%98%86/
LOCATION:京都府立丹後海と星の見える丘公園\, 里波見\, 宮津市\, 京都府\, 626-0211\, Japan
CATEGORIES:イベント
ATTACH;FMTTYPE=image/png:http://www.eco-future-park.jp/umihoshi/wp-content/uploads/2021/04/649df30d793b9bce3562232c9bd5f0bd.png
END:VEVENT
END:VCALENDAR