BEGIN:VCALENDAR
VERSION:2.0
PRODID:-//丹後海と星の見える丘公園-TANGO ECO FUTURE PARK- - ECPv4.9.2//NONSGML v1.0//EN
CALSCALE:GREGORIAN
METHOD:PUBLISH
X-WR-CALNAME:丹後海と星の見える丘公園-TANGO ECO FUTURE PARK-
X-ORIGINAL-URL:http://www.eco-future-park.jp
X-WR-CALDESC:Events for 丹後海と星の見える丘公園-TANGO ECO FUTURE PARK-
BEGIN:VEVENT
DTSTART;TZID=Asia/Tokyo:20211010T080000
DTEND;TZID=Asia/Tokyo:20211130T170000
DTSTAMP:20260422T065120
CREATED:20211010T074243Z
LAST-MODIFIED:20211026T073344Z
UID:3746-1633852800-1638291600@www.eco-future-park.jp
SUMMARY:【海の京都】e-bike スイーツキャンペーン　
DESCRIPTION:【海の京都】e-bike スイーツキャンペーン　 \n上記のキャンペーンの該当箇所になります。 \n  \nスイーツキャンペーン① \n  \n公園でレンタルできるe-bikeを1日以上のレンタルをした方にスイーツ1品引換券を配布しています。 \nこの引換券は公園でも使用できますが、キャンペーンの対象の各店舗にて使用が可能です。同じく他の場所で配布された引換券を公園で使用することもできます。 \n  \n丹後海と星の見える丘公園からは \n磯野開化堂さんのお茶のアイスを引き換えることができます。 \n \n  \nスイーツキャンペーン② \ne-bikeレンタル＋宿泊　抽選で1名様にe-bike1台をプレゼント \ne-bikをレンタルした方で宿泊を提供店で宿泊したかたが対象です。 \nこちらも提携店ならどこでも対象になります。 \n  \nキャンペーン期間 \n10月8日（金）～11月30（火） \n  \n  \n  \nE-bikeインターネット申し込みはこちらから↓ \n※キャンペーン対象になるプランは「1日プラン」と「1泊2日プラン」になります。 \n  \n\n\n\n\n\n\n\n\n\n\n\nJapan \n\nお申込みフォーム\n※は必須項目 \n\n《参加者（代表者）のご連絡先》\n\n氏名※\n\n\n\nフリガナ※\n\n\n\n人数※\n1人2人\n\n\n身長(参加者全員分記入ください)※\n\n\n\n郵便番号※\n\n\n\nご住所※\n市区町村： \n\n\n番地以降：\n\n\n電話番号（当日確認ができる電話番号）※\n\n\n\n日にち※\n月日月時から\n\n\nご希望するプラン\n1時間プラン3時間プラン1日プラン1泊2日プラン\n
URL:http://www.eco-future-park.jp/event/%e3%80%90%e6%b5%b7%e3%81%ae%e4%ba%ac%e9%83%bd%e3%80%91e-bike-%e3%82%b9%e3%82%a4%e3%83%bc%e3%83%84%e3%82%ad%e3%83%a3%e3%83%b3%e3%83%9a%e3%83%bc%e3%83%b3%e3%80%80/
CATEGORIES:イベント
ATTACH;FMTTYPE=image/jpeg:http://www.eco-future-park.jp/umihoshi/wp-content/uploads/2021/06/DSCN2224.jpg
END:VEVENT
END:VCALENDAR