BEGIN:VCALENDAR
VERSION:2.0
PRODID:-//丹後海と星の見える丘公園-TANGO ECO FUTURE PARK- - ECPv4.9.2//NONSGML v1.0//EN
CALSCALE:GREGORIAN
METHOD:PUBLISH
X-WR-CALNAME:丹後海と星の見える丘公園-TANGO ECO FUTURE PARK-
X-ORIGINAL-URL:http://www.eco-future-park.jp
X-WR-CALDESC:Events for 丹後海と星の見える丘公園-TANGO ECO FUTURE PARK-
BEGIN:VEVENT
DTSTART;TZID=Asia/Tokyo:20220501T080000
DTEND;TZID=Asia/Tokyo:20220630T170000
DTSTAMP:20260423T020818
CREATED:20220427T022542Z
LAST-MODIFIED:20230325T013959Z
UID:4233-1651392000-1656608400@www.eco-future-park.jp
SUMMARY:【花暦】みごろの花たち?
DESCRIPTION:\nここではうみほし公園に咲いている春（5-6月）のお花や植物をご紹介します。 \n昨年度の写真なので今年タイムリーな写真はInstagramで紹介しています。 \nこちらでも随時更新していく予定です！? \n\n  \n \nフジ（藤） \n花期：５月上旬～６月 \n青紫色の綺麗で立派なお花です? \nつる性の植物なので公園では木に絡まっていたりします。 \n\n  \n \nタニウツギ \n花期：５月上旬～６月 \nピンク色のお花で日本海側に多く自生している植物です。 \nフジと同じ時期でいっしょにみれる場所もあります。 \n \n\n  \n \nシャガ \n花期：４月中旬～５月上旬 \n変わった名前のお花です。 \n人為的にしか自生しないため里山などに多いみたいです。 \n\n  \n \nノアザミ \n花期：５月中旬～６月下旬 \nこの植物のどこを触っても痛い！ \nでもどこか魅力的なお花です。 \n\n \nギンリョウソウ（ユウレイダケ） \n花期：４月下旬～５月中旬 \n林のうすぐらーい所に自生している幽霊みたいな色と見た目をしているお花です。 \n見つけれた人はとってもラッキー☆ \n  \n\n \nキリ（桐） \n花期：５月上旬～５月下旬 \n木は固いことで有名でタンスの素材に使われる桐のお花。 \n色がとってもすてき♡ \n  \n  \n\n \nマツバウンラン \n花期：５月下旬～6月中旬 \nセミナーハウス周りに咲くお花。 \n縦に長くて写真に撮るのがたいへん? \n  \n\n今年の写真は随時更新していく予定です！ \n（4月27日更新） \n  \n  \n  \n
URL:http://www.eco-future-park.jp/event/%e3%80%90%e8%8a%b1%e6%9a%a6%e3%80%91%e3%81%bf%e3%81%94%e3%82%8d%e3%81%ae%e8%8a%b1%e3%81%9f%e3%81%a1%f0%9f%8c%bc/
CATEGORIES:見頃
ATTACH;FMTTYPE=image/jpeg:http://www.eco-future-park.jp/umihoshi/wp-content/uploads/2022/04/df6c565bd61612e8738abeca275bd469.jpg
END:VEVENT
END:VCALENDAR