BEGIN:VCALENDAR
VERSION:2.0
PRODID:-//丹後海と星の見える丘公園-TANGO ECO FUTURE PARK- - ECPv4.9.2//NONSGML v1.0//EN
CALSCALE:GREGORIAN
METHOD:PUBLISH
X-WR-CALNAME:丹後海と星の見える丘公園-TANGO ECO FUTURE PARK-
X-ORIGINAL-URL:http://www.eco-future-park.jp
X-WR-CALDESC:Events for 丹後海と星の見える丘公園-TANGO ECO FUTURE PARK-
BEGIN:VEVENT
DTSTART;TZID=Asia/Tokyo:20221015T080000
DTEND;TZID=Asia/Tokyo:20221217T170000
DTSTAMP:20260422T153345
CREATED:20221008T010911Z
LAST-MODIFIED:20221213T082802Z
UID:4480-1665820800-1671296400@www.eco-future-park.jp
SUMMARY:【申込締め切りました！　醤油絞りデイ】初めての醤油絞り体験！
DESCRIPTION:【醤油絞りデイ】 \n  \n醤油絞りと醤油のお話、絞りたての醤油で味わう昼食　 \n醤油の持ち帰りもできます。 \n  \n〇日にち：12月17日㈯　　10時～14時ごろ終了　　同日開催　工作・森作りデイはコチラ　 \n〇定　員：10組（お一人の参加でも可能です） \n〇参加費：1組1000円（持ち帰り代）＋1人500円（体験・昼食代） \n  \n\n〇持ち物　 \n・300ml程度の醤油が入る容器（瓶かペットボトル） \n・絞り粕が入るビニール袋 \n  \nうみほし醤油ができるまではコチラ \n  \n再度申込を再開していましたが、定員に達したため申込を締め切りました。 \n来年もなにか企画できたらと思っていますのでまたお願いします！ \n  \n
URL:http://www.eco-future-park.jp/event/%e3%80%90%e9%86%a4%e6%b2%b9%e7%b5%9e%e3%82%8a%e3%83%87%e3%82%a4%e3%80%91%e5%88%9d%e3%82%81%e3%81%a6%e3%81%ae%e9%86%a4%e6%b2%b9%e7%b5%9e%e3%82%8a%e4%bd%93%e9%a8%93%ef%bc%81/
CATEGORIES:イベント
ATTACH;FMTTYPE=image/png:http://www.eco-future-park.jp/umihoshi/wp-content/uploads/2022/10/syoyu.png
END:VEVENT
END:VCALENDAR