BEGIN:VCALENDAR
VERSION:2.0
PRODID:-//丹後海と星の見える丘公園-TANGO ECO FUTURE PARK- - ECPv4.9.2//NONSGML v1.0//EN
CALSCALE:GREGORIAN
METHOD:PUBLISH
X-WR-CALNAME:丹後海と星の見える丘公園-TANGO ECO FUTURE PARK-
X-ORIGINAL-URL:http://www.eco-future-park.jp
X-WR-CALDESC:Events for 丹後海と星の見える丘公園-TANGO ECO FUTURE PARK-
BEGIN:VEVENT
DTSTART;TZID=Asia/Tokyo:20201018T100000
DTEND;TZID=Asia/Tokyo:20201018T110000
DTSTAMP:20260425T103153
CREATED:20200801T042016Z
LAST-MODIFIED:20201003T075537Z
UID:2733-1603015200-1603018800@www.eco-future-park.jp
SUMMARY:【応募締め切り延長】第２回里山ラソンinうみほし公園
DESCRIPTION:第２回里山ラソン開催決定！！ \n令和初のチャンピオンの栄光は果たして誰の手に！ \n  \n15日から一般募集開始しました！！ \n新規の方も気軽に応募ください！わからない事は公園までお電話ください。 \n  \n応募締め切りを延長します。 \n応募締め切りは10月8日まで！！ \n  \n里山ラソンは、自然豊かなうみほし公園で秋の自然を感じるマラソン大会です。 \n秋の森を楽しめるコースを現在検討中です！！ \n高低差があり、森の中の細い道もある全３．５キロのコースを１時間という制限時間の中で \n楽しみながら走ってください。 \n宿泊施設があるので前泊や後泊が可能です \n※変更　参加後にお風呂にはいれる予定でしたが。新型コロナウイルス感染防止の様子を \n伺い今回は使用しないということになりました。ご了承ください。 \n  \n  \n  \n【大会概要】 \n日時：2020年10月18日（日）10:00～11：00　※受付時間9：00～9:30 \n場所：京都府立丹後海と星の見える丘公園 \n距離：3.5㎞ \n参加費：一般3\,000円、中学生以下：1\,500円 \n定員：50名　※先着 \n参加賞：記録証と記念品 \n副賞：各年代の１位～３位には賞品あり \n※エントリー状況により年代の設定は行います。 \n\n\n\n\n\n\n\n\n\n\n\nJapan \n\nお申込みフォーム\n※は必須項目 \n\n《参加者（代表者）のご連絡先》\n\n氏名※\n\n\n\nフリガナ※\n\n\n\n性別※\n男女\n\n\n年齢※\n\n\n\n学年（大会当日時点）\n\n\n\n郵便番号※\n\n\n\nご住所※\n市区町村： \n\n\n番地以降：\n\n\n電話番号（当日確認ができる電話番号）※\n\n\n\n保護者氏名（参加者が未成年の場合）\n\n\n\nメールアドレス※\n\n\n\n\nこのプログラムを何で知りましたか？\nうみほし通信学校からのチラシ家族・知人からの紹介テレビ・ラジオ公園ホームページ公園facebookみやづお知らせ版府民だより新聞その他 \n\n\n今後、当公園からイベント等のご案内をお送りさせていただいても良いでしょうか？\n希望する希望しない \n\n \n \n\n \n\n
URL:http://www.eco-future-park.jp/event/%e3%80%90%e9%99%90%e5%ae%9a%e7%94%b3%e3%81%97%e8%be%bc%e3%81%bf%e5%8f%97%e4%bb%98%e4%b8%ad%e3%80%91%e7%ac%ac%ef%bc%92%e5%9b%9e%e9%87%8c%e5%b1%b1%e3%83%a9%e3%82%bd%e3%83%b3in%e3%81%86%e3%81%bf%e3%81%bb/
CATEGORIES:イベント
ATTACH;FMTTYPE=image/jpeg:http://www.eco-future-park.jp/umihoshi/wp-content/uploads/2020/01/DSC_1051.jpg
END:VEVENT
END:VCALENDAR