BEGIN:VCALENDAR
VERSION:2.0
PRODID:-//丹後海と星の見える丘公園-TANGO ECO FUTURE PARK- - ECPv4.9.2//NONSGML v1.0//EN
CALSCALE:GREGORIAN
METHOD:PUBLISH
X-WR-CALNAME:丹後海と星の見える丘公園-TANGO ECO FUTURE PARK-
X-ORIGINAL-URL:http://www.eco-future-park.jp
X-WR-CALDESC:Events for 丹後海と星の見える丘公園-TANGO ECO FUTURE PARK-
BEGIN:VEVENT
DTSTART;TZID=Asia/Tokyo:20211114T093000
DTEND;TZID=Asia/Tokyo:20211114T163000
DTSTAMP:20260422T115548
CREATED:20211011T005715Z
LAST-MODIFIED:20211108T041454Z
UID:3754-1636882200-1636907400@www.eco-future-park.jp
SUMMARY:【☆満員御礼☆】11月14日（日）第４回うみほし警備隊　出動！
DESCRIPTION:【満員御礼】定員に達した為、HPからの応募を停止します。 \n以後の応募はキャンセル待ちになります。応募の際は公園までお電話ください。 \n第4回のテーマは、\n「自分で使うエネルギーは自分で手に入れよう！」\n今回のミッションは・・・ \n?材料の竹を調達せよ！　　　　　　　　　　?竹でご飯を炊くぞ！ \n?電気ってどうやってつくるか知ろう？　　　 \n?再生可能エネルギーを使ってみよう！ \n私たちがいつも使っているエネルギーやモノはどこからきているのだろう？\nそんなことを考えたことはありませんか？ \n今回は、自分で使うものは自分で手に入れる！ことを目的にして、何気なく使っているエネルギーやモノについて考えてみましょう！\nお昼ご飯は、竹を調達し、自分たちで飯ごうやはしをつくることに挑戦します。 \n午後からは、地球温暖化防止活動推進センターの方に来ていただき、再生可能エネルギーを実験を通して、知ってもらいます。 \n \n  \nミッションをクリアして、うみほし警備隊の隊員証とバッヂを手に入れよう！ \n  \n☀☀☀☀☀☀☀☀☀☀☀☀☀☀☀☀☀☀☀☀☀詳細☀☀☀☀☀☀☀☀☀☀☀☀☀☀☀☀☀☀☀☀☀ \n\n\n\n開催日時\n\n2021年11月14日（土）\n　  9:30　集合\n　15:40　解散 \n\n\n\n会場\n\n京都府立 丹後海と星の見える丘公園\n　　　　　　　（宮津市字里波見） \n\n\n\n対象\n小学4年生～6年生\n\n\n参加費\n\n500円/人 \n\n\n\n申込締切\n\n10月23日（土）　※定員に達し次第、締切 \n\n\n\n定員\n\n10名≪先着順≫ \n\n\n\n持ち物\n\n☑ぼうし　☑水とう　☑タオル　☑着替え \n☑動きやすいくつ　☑マスク　☑軍手 \n☑かっぱ（上下あるもの）≪雨天時のみ≫ \n\n\n\n\nお申込み \nお問合せ \n\n\n京都府立丹後海と星の見える丘公園\nTEl:0772-28-9111　　　（担当：徳本） \n\n\n\n\n  \n\n\n\n\n\n\n\n\n\n\n\nJapan \n\nお申込みフォーム\n※は必須項目 \n\n《参加者のご連絡先》\n お名前 ※\n     \n\nフリガナ※\n\n\n\n性別※\n男女\n\n\n学年※\n\n\n\n郵便番号※\n\n\n\nご住所※\n市区町村： \n\n 電話番号（当日確認ができる電話番号） (必須)\n\n 保護者氏名 ※\n     \n \n 食物アレルギーの有無\nありなし\n \n アレルギーを起こす食材について\n  \n \n メールアドレス (必須)\n      \n\nこのプログラムを何で知りましたか？\nうみほし通信学校からのチラシ家族・知人からの紹介公園ホームページその他 \n\n\n今後、当公園からイベント等のご案内をお送りさせていただいても良いでしょうか？\n希望する希望しない \n\n \n \n\n \n\n
URL:http://www.eco-future-park.jp/event/%e3%80%9010%e6%9c%8823%e6%97%a5%ef%bc%88%e5%9c%9f%ef%bc%899%e6%99%82%ef%bd%9e%e5%8b%9f%e9%9b%86%e9%96%8b%e5%a7%8b%e3%80%9111%e6%9c%8814%e6%97%a5%ef%bc%88%e6%97%a5%ef%bc%89%e7%ac%ac%ef%bc%94%e5%9b%9e/
LOCATION:京都府立丹後海と星の見える丘公園\, 里波見\, 宮津市\, 京都府\, 626-0211\, Japan
CATEGORIES:イベント
ATTACH;FMTTYPE=image/jpeg:http://www.eco-future-park.jp/umihoshi/wp-content/uploads/2021/10/DSC_0141.jpg
END:VEVENT
END:VCALENDAR