BEGIN:VCALENDAR
VERSION:2.0
PRODID:-//丹後海と星の見える丘公園-TANGO ECO FUTURE PARK- - ECPv4.9.2//NONSGML v1.0//EN
CALSCALE:GREGORIAN
METHOD:PUBLISH
X-WR-CALNAME:丹後海と星の見える丘公園-TANGO ECO FUTURE PARK-
X-ORIGINAL-URL:http://www.eco-future-park.jp
X-WR-CALDESC:Events for 丹後海と星の見える丘公園-TANGO ECO FUTURE PARK-
BEGIN:VEVENT
DTSTART;TZID=Asia/Tokyo:20250927T170000
DTEND;TZID=Asia/Tokyo:20250927T210000
DTSTAMP:20260421T101156
CREATED:20250818T051428Z
LAST-MODIFIED:20250818T051428Z
UID:7178-1758992400-1759006800@www.eco-future-park.jp
SUMMARY:うみほし楽しまナイト　９月
DESCRIPTION:日が沈んでからの公園も楽しんでいただきたい！ \nということで、月替わりで夜の公園を楽しむ企画「うみほし楽しまナイト」を開催★ \n９月は「月」と「土星」を楽しまナイト🌟 \n当日は夕方から細い月が出ているため、夕方から月観測🌒 \n19時30分過ぎからは、土星や秋の星座も見え始めます。 \n条件が整えば、天の川も見えるかも🌌 \nうみほし公園で秋の星空観察はいかがでしょうか？ \n★☆★☆★☆★☆★☆★☆★☆★☆★☆★☆イベント詳細★☆★☆★☆★☆★☆★☆★☆★☆★☆★ \n日時：2025年9月27日（土）17時-21時 \n場所：うみほし公園内\n※セミナーハウスにて、星空観察スポットのご案内をしています。 \n参加費：無料 \n★☆★☆★☆★☆★☆★☆★☆★☆★☆★☆★☆★☆★☆★☆★☆★☆★☆★☆★☆★☆★☆★☆★ \n
URL:http://www.eco-future-park.jp/event/%e3%81%86%e3%81%bf%e3%81%bb%e3%81%97%e6%a5%bd%e3%81%97%e3%81%be%e3%83%8a%e3%82%a4%e3%83%88%e3%80%80%ef%bc%99%e6%9c%88/
CATEGORIES:イベント,星空情報
ATTACH;FMTTYPE=image/jpeg:http://www.eco-future-park.jp/umihoshi/wp-content/uploads/2025/06/230519-20_0175-scaled.jpg
END:VEVENT
END:VCALENDAR