BEGIN:VCALENDAR
VERSION:2.0
PRODID:-//丹後海と星の見える丘公園-TANGO ECO FUTURE PARK- - ECPv4.9.2//NONSGML v1.0//EN
CALSCALE:GREGORIAN
METHOD:PUBLISH
X-WR-CALNAME:丹後海と星の見える丘公園-TANGO ECO FUTURE PARK-
X-ORIGINAL-URL:http://www.eco-future-park.jp
X-WR-CALDESC:Events for 丹後海と星の見える丘公園-TANGO ECO FUTURE PARK-
BEGIN:VEVENT
DTSTART;TZID=Asia/Tokyo:20211001T080000
DTEND;TZID=Asia/Tokyo:20211231T170000
DTSTAMP:20260422T052823
CREATED:20211017T022440Z
LAST-MODIFIED:20211101T022604Z
UID:3772-1633075200-1640970000@www.eco-future-park.jp
SUMMARY:みごろの花たち 10・11・12月【随時更新】
DESCRIPTION:\nここではうみほし公園に咲いている秋のお花や植物をご紹介します。 \n昨年度の写真なので今年タイムリーな写真はInstagramで紹介しています。 \nこちらでも随時更新していく予定です！? \n\n  \n \nリンドウ \n花期：9月後半～11月 \n青紫色の綺麗で立派なお花です? \n風の砦周辺に多く自生しています。 \n\n  \n \nセンブリ \nセンブリはお茶が有名ですね。にがーいので知られています。 \n葉っぱをかじってみるとにがーいですがなんだか健康によさそう? \n\n  \n \nノコンギク \n園内沿道でよく見れるキクです。 \nすこし紫っぽい色が特の蕾が特徴? \n\n  \n \nコスモス \n公園を彩る秋の花コスモス、漢字にすると「秋桜」です。 \nこどもの森入り口と十穀田に植えています。 \n\n  \n?キノコ? \n公園にはいろんなきのこが生えています！ \n※園内採取禁止になっています。 \n \nいかにも毒キノコ? \n \n \n\n今年の写真は随時更新していく予定です！ \n（10月17日更新） \n  \n  \n  \n
URL:http://www.eco-future-park.jp/event/%e3%81%bf%e3%81%94%e3%82%8d%e3%81%ae%e8%8a%b1%e3%81%9f%e3%81%a1-10%e3%83%bb11%e3%83%bb12%e6%9c%88%e3%80%90%e9%9a%8f%e6%99%82%e6%9b%b4%e6%96%b0%e3%80%91/
CATEGORIES:見頃
ATTACH;FMTTYPE=image/jpeg:http://www.eco-future-park.jp/umihoshi/wp-content/uploads/2021/10/580c7be37a7f6af3821a6b0877c15ecd-1.jpg
END:VEVENT
END:VCALENDAR