BEGIN:VCALENDAR
VERSION:2.0
PRODID:-//丹後海と星の見える丘公園-TANGO ECO FUTURE PARK- - ECPv4.9.2//NONSGML v1.0//EN
CALSCALE:GREGORIAN
METHOD:PUBLISH
X-WR-CALNAME:丹後海と星の見える丘公園-TANGO ECO FUTURE PARK-
X-ORIGINAL-URL:http://www.eco-future-park.jp
X-WR-CALDESC:Events for 丹後海と星の見える丘公園-TANGO ECO FUTURE PARK-
BEGIN:VEVENT
DTSTART;TZID=Asia/Tokyo:20210420T080000
DTEND;TZID=Asia/Tokyo:20210630T170000
DTSTAMP:20260422T011317
CREATED:20210420T084147Z
LAST-MODIFIED:20210530T052639Z
UID:3314-1618905600-1625072400@www.eco-future-park.jp
SUMMARY:みごろの花たち 4・5・6月【随時更新】
DESCRIPTION:ここではうみほし公園に咲いている春のお花をご紹介します。 \n  \n（4月2日撮影分） \n\n \n  \nサクラ（桜）　　　　　　　　　　花期：4月上旬 \n  \n園内にはいろんな種類の桜が咲いています。有名なソメイヨシノから \n八重桜（写真左）やキンキマメザクラ（写真右）など探し回ってみるのも楽しいかもしれません \n　  \n  \n\n  \n \n  \nヤマナシ（山梨）　　　　　　　　　　花期：4月上旬 \n  \n桜と同じタイミングで咲き始め、ヤマナシは木がまるまる白くなって \n里山の風景を桜と共に彩をあたえています。ヤマナシの周りにはミツバチが \nたくさん飛んでいて、花から花粉を集める仕草はたいへんカワイイです。 \n \n  \n\n  \n \n  \nスミレ（菫）　　　　　　　　　　花期：3月下旬～5月上旬（種類の変化アリ） \n  \nスミレの種類は全部で150種類もあるといわれています。そのなかでも花期がはやかったり \n遅かったりしたりです。葉っぱが丸かったり細長かったり、ほんとうにいろんなスミレがあります。 \n  \n\n  \n \n  \nヤマルリソウ　　　　　　　　　　花期：4月上旬～中旬 \n  \n園内でも限られた場所にしか咲かないお花です。丸い花びらがたいへんかわいらしいですね！ \nピンクから時間がたっていくうちに青に花が変化する面白いお花です。 \n  \n\n  \n \n  \nタンポポ　　　　　　　　　　　花期：4月上旬~5月中旬 \n  \nタンポポといってもたくさん種類があります。有名なのがセイヨウタンポポです。 \n外来種ですが街中でもみかけることができます。日本在来種との見分け方は簡単で \n花のうしろの総苞片（そうほうへん）という場所が反り返りがあれば外来種、反り返りがなければ在来種になります。 \n  \n  \n\n  \n \n  \nキュウリグサ　　　　　　　　　　花期：4月上旬~5月上旬 \n  \nこの花を摘んで揉んでみるとキュウリの匂いがします。 \nお花は薄青と黄色のかわいい組み合わせ♪ \n  \n\n  \n \n  \nクサイチゴ　　　　　　　　　　　　花期：4月上旬~下旬 \n  \n夏ごろになると赤い実をつけます。味は好き嫌いがわかれるような味をしています。 \n  \n\n  \n \n  \nコブシ　　　　　　　　　　花期：4月上旬 \n  \n公園のコブシは植栽木ですが、野生種では関東に多い樹だそうで関西では珍しいらしいです。 \n  \n  \n\n  \n \n  \nイカリソウ　　　　　　　　　　花期：4月上旬~下旬 \n  \n名前の由来は船のイカリからきています。森の中にひっそりと生えていますよ。 \n  \n\n（4月19日撮影分） \n \n  \nギンリョウソウ　　　　　　　　　　　花期：4月中旬~5月上旬 \n  \n幽霊ににたみためから別名「ユウレイダケ」。目玉がギョロっとしているような \n見た目です。公園でも植生スポットがいくつかあるので探してみてください！ \n  \n\n  \n \n  \nコバノガマズミ　　　　　　　　　　花期：4月中旬~下旬 \n  \nこどもの森を中心にみかけます。白いお花がキュートですね。 \n  \n\n  \n \n  \nコバノミツバツツジ　　　　　　　　　　花期：4月中旬~5月上旬 \n  \n宮津市の「市の花」ミツバツツジのお仲間さんです。公園にはコバノミツバツツジがたくさんあり \n4月5月の時期になるとピンクのお花がたくさん開花して公園を彩ってくれます。 \n  \n\n（5月1日　撮影） \n \n  \nフジ（藤）　　　　　　　　　　花期：5月上旬～中旬 \n  \n公園の木によく巻き付いているツタ系のお花です。周辺地域には藤織といって \n藤の繊維を使った織物「藤織り」があります。詳しくは調べてみてください！ \n  \n\n  \n \n  \nタニウツギ　　　　　　　　　　花期：5月上旬～5月末 \n  \nピンクのお花、公園内では多く見られ谷筋をピンクで染め上げます。 \n  \n\n  \n \n  \nマツバウンラン　　　　　　　　　　花期：5月中旬～下旬 \n  \n細い茎からお花が咲いています。みためもシュッとしていてカッコイイイ！ \n  \n\n  \n \n  \nキリ（桐）　　　　　　　　　　花期：5月中旬～6月上旬 \n  \nタンスによく使われる桐、お花は大きくてきれい！ \n  \n\n  \n
URL:http://www.eco-future-park.jp/event/%e3%81%bf%e3%81%94%e3%82%8d%e3%81%ae%e8%8a%b1%e3%81%9f%e3%81%a1-4%e3%83%bb5%e3%83%bb6%e6%9c%88%e3%80%90%e9%9a%8f%e6%99%82%e6%9b%b4%e6%96%b0%e3%80%91/
CATEGORIES:見頃
ATTACH;FMTTYPE=image/jpeg:http://www.eco-future-park.jp/umihoshi/wp-content/uploads/2021/04/bd369d4f4ae808349c2c75e26524d4fc.jpg
END:VEVENT
END:VCALENDAR