BEGIN:VCALENDAR
VERSION:2.0
PRODID:-//丹後海と星の見える丘公園-TANGO ECO FUTURE PARK- - ECPv4.9.2//NONSGML v1.0//EN
CALSCALE:GREGORIAN
METHOD:PUBLISH
X-WR-CALNAME:丹後海と星の見える丘公園-TANGO ECO FUTURE PARK-
X-ORIGINAL-URL:http://www.eco-future-park.jp
X-WR-CALDESC:Events for 丹後海と星の見える丘公園-TANGO ECO FUTURE PARK-
BEGIN:VEVENT
DTSTART;TZID=Asia/Tokyo:20230430T100000
DTEND;TZID=Asia/Tokyo:20230430T160000
DTSTAMP:20260422T090328
CREATED:20230401T022054Z
LAST-MODIFIED:20230828T022150Z
UID:4897-1682848800-1682870400@www.eco-future-park.jp
SUMMARY:アースデイ丹後 2023　開催！
DESCRIPTION:「アースデイ」は私たちの住む地球に感謝し、美しい地球を守り「地球のために行動する日」。 \n世界各地で開催されている世界規模の市民イベントです。 \n京都府立丹後海と星の見える丘公園での開催は今年で７度目となります。 \n丹後をはじめ、京都府北部に今もなお残っている山、森、里、海の豊かな自然環境は、その地域に住んでいても何となく暮らしていると豊かさには気づかないものです。アースデイ丹後では、京都府北部の自然環境が豊かだと実感できるしかけとして、「食」や「体験」を用意します。身近にある自然に目を向けることで、地球を大切にしたいという人が集まり、繋がり、その想いが広がって、豊かな地球を将来世代につないでいくきっかけになればと願い開催いたします。 \nアースディ丹後ホームページはこちらhttps://earthday-tango.jimdofree.com/ \n
URL:http://www.eco-future-park.jp/event/%e3%82%a2%e3%83%bc%e3%82%b9%e3%83%87%e3%82%a4%e4%b8%b9%e5%be%8c-2023%e3%80%80%e9%96%8b%e5%82%ac%ef%bc%81/
CATEGORIES:イベント
ATTACH;FMTTYPE=image/png:http://www.eco-future-park.jp/umihoshi/wp-content/uploads/slider3/2023HP.png
END:VEVENT
END:VCALENDAR