BEGIN:VCALENDAR
VERSION:2.0
PRODID:-//丹後海と星の見える丘公園-TANGO ECO FUTURE PARK- - ECPv4.9.2//NONSGML v1.0//EN
CALSCALE:GREGORIAN
METHOD:PUBLISH
X-WR-CALNAME:丹後海と星の見える丘公園-TANGO ECO FUTURE PARK-
X-ORIGINAL-URL:http://www.eco-future-park.jp
X-WR-CALDESC:Events for 丹後海と星の見える丘公園-TANGO ECO FUTURE PARK-
BEGIN:VEVENT
DTSTART;TZID=Asia/Tokyo:20221022T170000
DTEND;TZID=Asia/Tokyo:20221022T210000
DTSTAMP:20260422T141642
CREATED:20220919T064313Z
LAST-MODIFIED:20220919T064452Z
UID:4440-1666458000-1666472400@www.eco-future-park.jp
SUMMARY:星空観望会〈１０月〉土星・木星を望遠鏡で見てみよう?
DESCRIPTION:太陽系の惑星の中で１・２の大きさの土星と木星。 \n地球から７億kmや１４億kmもはるか遠く離れた星ですが、その大きさゆえに望遠鏡で見ることができます。 \n土星の環っかや木星の模様も天気が良かったら見えるかも！？ \n小さな天体望遠鏡しかありませんが、とっくりは初めて見たときはとても感動しました！ \nうみほしの夜空で感動体験はいかがですか？ \n\n★☆★☆★☆★☆★☆★☆★☆★☆★☆★☆イベント詳細★☆★☆★☆★☆★☆★☆★☆★☆★☆★☆\n\n\n \n\n\n日時：2021年10月22日（土）　17時-21時\n\n\n \n\n\n場所：うみほし公園内　\n\n\n※セミナーハウスにて、星空観察スポットの紹介や星空観察ツールのレンタル（有料）をしています。\n\n\n \n\n\n参加費：無料\n\n\n \n\n\n\n\n※基本的に星空の解説などはありません。ご来園いただいた皆様でご自由に星空をお楽しみいただくイベントです。\n※今回は天体望遠鏡でご覧いただきますが、１台しかありませんので、お待ちいただく場合があります。\n\n \n\n\n\n★☆★☆★☆★☆★☆★☆★☆★☆★☆★☆★☆★☆★☆★☆★☆★☆★☆★☆★☆★☆★☆★☆★☆\n\n  \n  \n
URL:http://www.eco-future-park.jp/event/%e6%98%9f%e7%a9%ba%e8%a6%b3%e6%9c%9b%e4%bc%9a%e3%80%88%ef%bc%91%ef%bc%90%e6%9c%88%e3%80%89%e5%9c%9f%e6%98%9f%e3%83%bb%e6%9c%a8%e6%98%9f%e3%82%92%e6%9c%9b%e9%81%a0%e9%8f%a1%e3%81%a7%e8%a6%8b%e3%81%a6/
CATEGORIES:イベント,星空情報
ATTACH;FMTTYPE=image/jpeg:http://www.eco-future-park.jp/umihoshi/wp-content/uploads/2022/09/IMG_0209.jpg
END:VEVENT
END:VCALENDAR