BEGIN:VCALENDAR
VERSION:2.0
PRODID:-//丹後海と星の見える丘公園-TANGO ECO FUTURE PARK- - ECPv4.9.2//NONSGML v1.0//EN
CALSCALE:GREGORIAN
METHOD:PUBLISH
X-WR-CALNAME:丹後海と星の見える丘公園-TANGO ECO FUTURE PARK-
X-ORIGINAL-URL:http://www.eco-future-park.jp
X-WR-CALDESC:Events for 丹後海と星の見える丘公園-TANGO ECO FUTURE PARK-
BEGIN:VEVENT
DTSTART;TZID=Asia/Tokyo:20221126T170000
DTEND;TZID=Asia/Tokyo:20221126T210000
DTSTAMP:20260422T114118
CREATED:20221001T053650Z
LAST-MODIFIED:20221219T061137Z
UID:4747-1669482000-1669496400@www.eco-future-park.jp
SUMMARY:星空観望会〈１１月〉アンドロメダ銀河を見てみよう?
DESCRIPTION:私たちがいる天の川銀河のお隣にあるアンドロメダ銀河。 \nお隣といってもその距離２３０万光年。光でも２３０万年かかる場所にあります。 \n大きさは天の川銀河の２倍以上、星の数は１兆個だと考えられています。 \n4.4等星ということであまり明るくありませんが、うみほし公園からならぼやーっとその広がりをみることができます。 \n今回は、双眼鏡で２３０万年前の１兆個ある光の集まりをのぞいてみましょう。 \n\n★☆★☆★☆★☆★☆★☆★☆★☆★☆★☆イベント詳細★☆★☆★☆★☆★☆★☆★☆★☆★☆★☆\n\n\n \n\n\n日時：2021年11月26日（土）　17時-21時\n\n\n \n\n\n場所：うみほし公園内　\n\n\n※セミナーハウスにて、星空観察スポットの紹介や星空観察ツールのレンタル（有料）をしています。\n\n\n \n\n\n参加費：無料\n\n\n \n\n\n\n\n※基本的に星空の解説などはありません。ご来園いただいた皆様でご自由に星空をお楽しみいただくイベントです。\n \n\n\n\n\n★☆★☆★☆★☆★☆★☆★☆★☆★☆★☆★☆★☆★☆★☆★☆★☆★☆★☆★☆★☆★☆★☆★☆\n\n  \n
URL:http://www.eco-future-park.jp/event/%e6%98%9f%e7%a9%ba%e8%a6%b3%e6%9c%9b%e4%bc%9a%e3%80%88%ef%bc%91%ef%bc%91%e6%9c%88%e3%80%89%e3%82%a2%e3%83%b3%e3%83%89%e3%83%ad%e3%83%a1%e3%83%80%e9%8a%80%e6%b2%b3%e3%82%92%e8%a6%8b%e3%81%a6%e3%81%bf/
CATEGORIES:星空情報
END:VEVENT
END:VCALENDAR