BEGIN:VCALENDAR
VERSION:2.0
PRODID:-//丹後海と星の見える丘公園-TANGO ECO FUTURE PARK- - ECPv4.9.2//NONSGML v1.0//EN
CALSCALE:GREGORIAN
METHOD:PUBLISH
X-WR-CALNAME:丹後海と星の見える丘公園-TANGO ECO FUTURE PARK-
X-ORIGINAL-URL:http://www.eco-future-park.jp
X-WR-CALDESC:Events for 丹後海と星の見える丘公園-TANGO ECO FUTURE PARK-
BEGIN:VEVENT
DTSTART;TZID=Asia/Tokyo:20230422T170000
DTEND;TZID=Asia/Tokyo:20230422T210000
DTSTAMP:20260422T075056
CREATED:20230401T014724Z
LAST-MODIFIED:20230828T022155Z
UID:4901-1682182800-1682197200@www.eco-future-park.jp
SUMMARY:星空観望会〈４月〉二つの大三角を探してみよう▲▽
DESCRIPTION:\n４月に入り、園内でも春の山野草が花を咲かせて、彩りが豊かになりました。 \n夜空ではまだもう少し、西の空には冬の星座や「冬の大三角」を見ることができます。 \n東の空からは春の星座と「春の大三角」が出てきています。 \n夜空をまたぐ、二つの大三角を探してみましょう。 \n\n\n \n★☆★☆★☆★☆★☆★☆★☆★☆★☆★☆イベント詳細★☆★☆★☆★☆★☆★☆★☆★☆★☆★☆\n\n\n \n\n\n日時：2023年4月22日（土）　17時-21時\n\n\n \n\n\n場所：うみほし公園内　\n\n\n※セミナーハウスにて、星空観察スポットの紹介や星空観察ツールのレンタル（有料）をしています。\n\n\n \n\n\n参加費：無料\n\n\n \n\n\n\n\n※基本的に星空の解説などはありません。ご来園いただいた皆様でご自由に星空をお楽しみいただくイベントです。\n \n\n\n\n\n★☆★☆★☆★☆★☆★☆★☆★☆★☆★☆★☆★☆★☆★☆★☆★☆★☆★☆★☆★☆★☆★☆★☆\n\n
URL:http://www.eco-future-park.jp/event/%e6%98%9f%e7%a9%ba%e8%a6%b3%e6%9c%9b%e4%bc%9a%e3%80%88%ef%bc%94%e6%9c%88%e3%80%89%e4%ba%8c%e3%81%a4%e3%81%ae%e5%a4%a7%e4%b8%89%e8%a7%92%e3%82%92%e6%8e%a2%e3%81%97%e3%81%a6%e3%81%bf%e3%82%88%e3%81%86/
CATEGORIES:星空情報
ATTACH;FMTTYPE=image/jpeg:http://www.eco-future-park.jp/umihoshi/wp-content/uploads/2023/04/f129276c38b7f2ea1a4591c674a27f68.jpg
END:VEVENT
END:VCALENDAR