BEGIN:VCALENDAR
VERSION:2.0
PRODID:-//丹後海と星の見える丘公園-TANGO ECO FUTURE PARK- - ECPv4.9.2//NONSGML v1.0//EN
CALSCALE:GREGORIAN
METHOD:PUBLISH
X-WR-CALNAME:丹後海と星の見える丘公園-TANGO ECO FUTURE PARK-
X-ORIGINAL-URL:http://www.eco-future-park.jp
X-WR-CALDESC:Events for 丹後海と星の見える丘公園-TANGO ECO FUTURE PARK-
BEGIN:VEVENT
DTSTART;TZID=Asia/Tokyo:20220423T170000
DTEND;TZID=Asia/Tokyo:20220423T210000
DTSTAMP:20260422T230643
CREATED:20220413T074551Z
LAST-MODIFIED:20220413T074551Z
UID:4206-1650733200-1650747600@www.eco-future-park.jp
SUMMARY:星空観望会〈４月〉真珠星と麦星を探してみよう★
DESCRIPTION:４月になり山や森で花が咲き、若葉の鮮やかな新緑が見えてくると、夜空いよいよ本格的な春の星空になってきます。 \n春の星空の見どころは「北斗七星」と赤く光る1等星アルクトゥルスと、白く輝く1等星スピカの連なりからなる見事なカーブの「春の大曲線」があります。 \n星の名前は世界共通になっていて、正式にはアルファベットで表記されます。アルクトゥルスは「Arcturus」と書くので、呼び方としてはアークトゥルスやアルクトゥールスと呼んでも間違いではありません。 \n星の名前の中には、日本ならではの呼び方もあります。夏の星座である「こと座」のベガがおり姫、「わし座」のアルタイルが彦星と呼ばれていますね。 \n今から見ごろを迎えるアルクトゥルスは、６月の麦刈り時期に頭上に輝くことから「麦星」、純白に輝くスピカは「真珠星」とも呼ばれているそうです。\n今回は、そんな麦星と真珠星を見つけてみましょう★ \n  \n★☆★☆★☆★☆★☆★☆★☆★☆★☆★☆イベント詳細★☆★☆★☆★☆★☆★☆★☆★☆★☆★☆ \n日時：2021年4月23日（土）　17時-21時 \n場所：うみほし公園内　\n※セミナーハウスにて、星空観察スポットの紹介や星空観察ツールのレンタル（有料）をしています。 \n参加費：無料 \n※星空の解説などはありません。ご来園いただいた皆様でご自由に星空をお楽しみいただくイベントです。 \n★☆★☆★☆★☆★☆★☆★☆★☆★☆★☆★☆★☆★☆★☆★☆★☆★☆★☆★☆★☆★☆★☆★☆ \n
URL:http://www.eco-future-park.jp/event/%e6%98%9f%e7%a9%ba%e8%a6%b3%e6%9c%9b%e4%bc%9a%e3%80%88%ef%bc%94%e6%9c%88%e3%80%89%e7%9c%9f%e7%8f%a0%e6%98%9f%e3%81%a8%e9%ba%a6%e6%98%9f%e3%82%92%e6%8e%a2%e3%81%97%e3%81%a6%e3%81%bf%e3%82%88%e3%81%86/
CATEGORIES:イベント,星空情報
ATTACH;FMTTYPE=image/jpeg:http://www.eco-future-park.jp/umihoshi/wp-content/uploads/2022/01/nature02.jpg
END:VEVENT
END:VCALENDAR