BEGIN:VCALENDAR
VERSION:2.0
PRODID:-//丹後海と星の見える丘公園-TANGO ECO FUTURE PARK- - ECPv4.9.2//NONSGML v1.0//EN
CALSCALE:GREGORIAN
METHOD:PUBLISH
X-WR-CALNAME:丹後海と星の見える丘公園-TANGO ECO FUTURE PARK-
X-ORIGINAL-URL:http://www.eco-future-park.jp
X-WR-CALDESC:Events for 丹後海と星の見える丘公園-TANGO ECO FUTURE PARK-
BEGIN:VEVENT
DTSTART;TZID=Asia/Tokyo:20220521T170000
DTEND;TZID=Asia/Tokyo:20220521T210000
DTSTAMP:20260423T032032
CREATED:20220510T045735Z
LAST-MODIFIED:20220520T052416Z
UID:4255-1653152400-1653166800@www.eco-future-park.jp
SUMMARY:星空観望会〈５月〉ブラックホールを感じよう！？
DESCRIPTION:私たちの太陽系がある天の川銀河。その中心にあるブラックホールの撮影に成功したというニュースをご覧になった方もいるのではないかと思います。 \nそのブラックホールの名前は「いて座A*（エースター）」と呼びます。 \n今回のブラックホール撮影成功事例は２例目となります。\n１例目はおとめ座方向にあるブラックホールで、その質量はなんと太陽の65億倍！想像もつきません。 \n５月の星空観望会では、おとめ座の１等星スピカを見つけることができます。 \nスピカの先にある巨大ブラックホールを見ることはできませんが、感じてみましょう? \n★☆★☆★☆★☆★☆★☆★☆★☆★☆★☆イベント詳細★☆★☆★☆★☆★☆★☆★☆★☆★☆★☆ \n日時：2021年5月20日（土）　17時-21時 \n場所：うみほし公園内　\n※セミナーハウスにて、星空観察スポットの紹介や星空観察ツールのレンタル（有料）をしています。 \n参加費：無料 \n※星空の解説などはありません。ご来園いただいた皆様でご自由に星空をお楽しみいただくイベントです。 \n★☆★☆★☆★☆★☆★☆★☆★☆★☆★☆★☆★☆★☆★☆★☆★☆★☆★☆★☆★☆★☆★☆★☆ \n
URL:http://www.eco-future-park.jp/event/%e6%98%9f%e7%a9%ba%e8%a6%b3%e6%9c%9b%e4%bc%9a%e3%80%88%ef%bc%95%e6%9c%88%e3%80%89%e3%83%96%e3%83%a9%e3%83%83%e3%82%af%e3%83%9b%e3%83%bc%e3%83%ab%e3%82%92%e6%84%9f%e3%81%98%e3%82%88%e3%81%86%ef%bc%81/
CATEGORIES:星空情報
ATTACH;FMTTYPE=image/jpeg:http://www.eco-future-park.jp/umihoshi/wp-content/uploads/2021/04/c0a1b26bf60b4d1b58d2842aa911f03c.jpg
END:VEVENT
END:VCALENDAR