BEGIN:VCALENDAR
VERSION:2.0
PRODID:-//丹後海と星の見える丘公園-TANGO ECO FUTURE PARK- - ECPv4.9.2//NONSGML v1.0//EN
CALSCALE:GREGORIAN
METHOD:PUBLISH
X-WR-CALNAME:丹後海と星の見える丘公園-TANGO ECO FUTURE PARK-
X-ORIGINAL-URL:http://www.eco-future-park.jp
X-WR-CALDESC:Events for 丹後海と星の見える丘公園-TANGO ECO FUTURE PARK-
BEGIN:VEVENT
DTSTART;TZID=Asia/Tokyo:20220730T170000
DTEND;TZID=Asia/Tokyo:20220730T210000
DTSTAMP:20260423T024734
CREATED:20220625T123002Z
LAST-MODIFIED:20220625T123048Z
UID:4286-1659200400-1659214800@www.eco-future-park.jp
SUMMARY:星空観望会〈７月〉夏の大三角と天の川を双眼鏡で覗いてみよう?
DESCRIPTION:いよいよ夜空も夏本番です。 \n夏の大三角や天の川が２０時ごろで見えやすくなってきます。 \n晴れていれば肉眼で観ても十分、見応えがあるのですが、今回は双眼鏡で星空観察をお勧めします。 \n双眼鏡では肉眼では見えない明るくない星や星団、連星などがたくさん見えて、星空の楽しみ方が広がります。 \n特に、天の川は必見です? \nお持ちの方は双眼鏡を持って、お持ちでない方はレンタルがあるので、一度、双眼鏡で星空をご覧になってください? \n  \nとっくり \n\n★☆★☆★☆★☆★☆★☆★☆★☆★☆★☆イベント詳細★☆★☆★☆★☆★☆★☆★☆★☆★☆★☆\n\n\n \n\n\n日時：2021年7月30日（土）　17時-21時\n\n\n \n\n\n場所：うみほし公園内　\n\n\n※セミナーハウスにて、星空観察スポットの紹介や星空観察ツールのレンタル（有料）をしています。\n\n\n \n\n\n参加費：無料\n\n\n \n\n\n※星空の解説などはありません。ご来園いただいた皆様でご自由に星空をお楽しみいただくイベントです。\n\n\n \n\n\n★☆★☆★☆★☆★☆★☆★☆★☆★☆★☆★☆★☆★☆★☆★☆★☆★☆★☆★☆★☆★☆★☆★☆\n\n
URL:http://www.eco-future-park.jp/event/%e6%98%9f%e7%a9%ba%e8%a6%b3%e6%9c%9b%e4%bc%9a%e3%80%88%ef%bc%97%e6%9c%88%e3%80%89%e5%a4%8f%e3%81%ae%e5%a4%a7%e4%b8%89%e8%a7%92%e3%81%a8%e5%a4%a9%e3%81%ae%e5%b7%9d%e3%82%92%e5%8f%8c%e7%9c%bc%e9%8f%a1/
CATEGORIES:星空情報
ATTACH;FMTTYPE=image/jpeg:http://www.eco-future-park.jp/umihoshi/wp-content/uploads/slider60/TAKURO11.jpeg
END:VEVENT
END:VCALENDAR