BEGIN:VCALENDAR
VERSION:2.0
PRODID:-//丹後海と星の見える丘公園-TANGO ECO FUTURE PARK- - ECPv4.9.2//NONSGML v1.0//EN
CALSCALE:GREGORIAN
METHOD:PUBLISH
X-WR-CALNAME:丹後海と星の見える丘公園-TANGO ECO FUTURE PARK-
X-ORIGINAL-URL:http://www.eco-future-park.jp
X-WR-CALDESC:Events for 丹後海と星の見える丘公園-TANGO ECO FUTURE PARK-
BEGIN:VEVENT
DTSTART;TZID=Asia/Tokyo:20220820T170000
DTEND;TZID=Asia/Tokyo:20220820T210000
DTSTAMP:20260422T225255
CREATED:20220804T031124Z
LAST-MODIFIED:20220820T053324Z
UID:4361-1661014800-1661029200@www.eco-future-park.jp
SUMMARY:【中止】星空観望会〈８月その２〉夏本番！天の川が見れるかな?
DESCRIPTION:お盆が過ぎて、夏休みも残りわずかとなってきましたね。 \n夏の思い出に家族で、友人たちと、大切な人と、夜空を見上げてみませんか。 \n当日は月の出が夜中になるため、晴れていれば２０時でも天の川や夏の大三角、さそり座もご覧いただけるかと思います? \n \n\n★☆★☆★☆★☆★☆★☆★☆★☆★☆★☆イベント詳細★☆★☆★☆★☆★☆★☆★☆★☆★☆★☆\n\n\n \n\n\n日時：2021年8月20日（土）　17時-21時\n\n\n \n\n\n場所：うみほし公園内　\n\n\n※セミナーハウスにて、星空観察スポットの紹介や星空観察ツールのレンタル（有料）をしています。\n\n\n \n\n\n参加費：無料\n\n\n \n\n\n\n\n※基本的に星空の解説などはありません。ご来園いただいた皆様でご自由に星空をお楽しみいただくイベントです。\n\n※路上駐車は大変危険ですので、お止めください。セミナーハウス前駐車場が満車の場合は、潮騒のテラスや風の谷駐車場をご利用ください。\n\n \n\n\n\n\n★☆★☆★☆★☆★☆★☆★☆★☆★☆★☆★☆★☆★☆★☆★☆★☆★☆★☆★☆★☆★☆★☆★☆\n\n
URL:http://www.eco-future-park.jp/event/%e6%98%9f%e7%a9%ba%e8%a6%b3%e6%9c%9b%e4%bc%9a%e3%80%88%ef%bc%98%e6%9c%88%e3%81%9d%e3%81%ae%ef%bc%92%e3%80%89%e5%a4%8f%e6%9c%ac%e7%95%aa%ef%bc%81%e5%a4%a9%e3%81%ae%e5%b7%9d%e3%81%8c%e8%a6%8b%e3%82%8c/
CATEGORIES:星空情報
ATTACH;FMTTYPE=image/jpeg:http://www.eco-future-park.jp/umihoshi/wp-content/uploads/slider60/TAKURO11.jpeg
END:VEVENT
END:VCALENDAR