BEGIN:VCALENDAR
VERSION:2.0
PRODID:-//丹後海と星の見える丘公園-TANGO ECO FUTURE PARK- - ECPv4.9.2//NONSGML v1.0//EN
CALSCALE:GREGORIAN
METHOD:PUBLISH
X-WR-CALNAME:丹後海と星の見える丘公園-TANGO ECO FUTURE PARK-
X-ORIGINAL-URL:http://www.eco-future-park.jp
X-WR-CALDESC:Events for 丹後海と星の見える丘公園-TANGO ECO FUTURE PARK-
BEGIN:VEVENT
DTSTART;TZID=Asia/Tokyo:20211030T170000
DTEND;TZID=Asia/Tokyo:20211030T210000
DTSTAMP:20260422T092225
CREATED:20211004T051101Z
LAST-MODIFIED:20211024T075627Z
UID:3735-1635613200-1635627600@www.eco-future-park.jp
SUMMARY:星空観望会〈10月〉秋の四辺形とギリシャ神話の神様たちに会ってみよう★
DESCRIPTION:秋の夜空は明るい星（１等星）が少なくて、街中ではあまり星を見ることができない季節です。それでも見える星座のなかにはロマンチックな物語があり、そんな物語と一緒に楽しめるのが秋の星空になります。 \n物語の星座たちはギリシャ神話に出てくる神様です。目印になるのは、北の空に見えて「W」の形をしている王妃（おうひ）のカシオペア座。カシオペア座を中心に西には王のケフェウス座、東には夏の流星群でも有名な勇者のペルセウス座、南には大きな銀河にも名前がついている王女のアンドロメダ座があります。それらの星座を中心とした神様の物語が星空のなかでくり広げられています。 \n秋は夜空に浮かぶ星の物語を眺めに出かけてみませんか★\nご来園、お待ちしています(*^^*) \n \n（写真は少し早いですが、冬の星空になります。） \nとっくり \n  \n★☆★☆★☆★☆★☆★☆★☆★☆★☆★☆イベント詳細★☆★☆★☆★☆★☆★☆★☆★☆★☆★☆ \n日時：2021年10月30日（木）　17時-21時 \n場所：うみほし公園内　※セミナーハウスにて、星空観察スポットの紹介をしています。 \n参加費：無料 \n※星空の解説などはありません。ご来園いただいた皆様でご自由に星空をお楽しみいただくイベントです。 \n★☆★☆★☆★☆★☆★☆★☆★☆★☆★☆★☆★☆★☆★☆★☆★☆★☆★☆★☆★☆★☆★☆★☆ \n
URL:http://www.eco-future-park.jp/event/%e6%98%9f%e7%a9%ba%e8%a6%b3%e6%9c%9b%e4%bc%9a%e3%80%8810%e6%9c%88%e3%80%89%e7%a7%8b%e3%81%ae%e5%9b%9b%e8%be%ba%e5%bd%a2%e3%81%a8%e3%82%ae%e3%83%aa%e3%82%b7%e3%83%a3%e7%a5%9e%e8%a9%b1%e3%81%ae%e7%a5%9e/
LOCATION:京都府立丹後海と星の見える丘公園\, 里波見\, 宮津市\, 京都府\, 626-0211\, Japan
CATEGORIES:イベント,星空情報
ATTACH;FMTTYPE=image/jpeg:http://www.eco-future-park.jp/umihoshi/wp-content/uploads/2021/10/IMG_0322.jpg
END:VEVENT
END:VCALENDAR