BEGIN:VCALENDAR
VERSION:2.0
PRODID:-//丹後海と星の見える丘公園-TANGO ECO FUTURE PARK- - ECPv4.9.2//NONSGML v1.0//EN
CALSCALE:GREGORIAN
METHOD:PUBLISH
X-WR-CALNAME:丹後海と星の見える丘公園-TANGO ECO FUTURE PARK-
X-ORIGINAL-URL:http://www.eco-future-park.jp
X-WR-CALDESC:Events for 丹後海と星の見える丘公園-TANGO ECO FUTURE PARK-
BEGIN:VEVENT
DTSTART;TZID=Asia/Tokyo:20211225T170000
DTEND;TZID=Asia/Tokyo:20211225T210000
DTSTAMP:20260422T154326
CREATED:20211212T074601Z
LAST-MODIFIED:20220308T015047Z
UID:3882-1640451600-1640466000@www.eco-future-park.jp
SUMMARY:星空観望会〈3月その②〉聖なる夜、大切な人と星を眺めませんか☆
DESCRIPTION:12月2度目の星空観望会は、クリスマス観望会です? \n当日は月の出が22時以降なので、21時までは十分に星空を見えることができそうです。 \n20時頃には、オリオン座やシリウス、プロキオンも出てくるので、冬の大三角やダイヤモンドもご覧いただけます★ \nまた、星が生まれているところと言われているオリオン座の方向にあるオリオン大星雲やたくさんの星の集まりであるプレアデス星団（すばる）、プレセぺ星団も双眼鏡で見ると美しい姿を見ることができますよ。 \nプレアデス星団（すばる）は、かの有名な平安時代の歌人である清少納言も枕草子の中で綴られたそうな、昔から日本人にも愛されている星のようです。 \n聖なる夜は、大切な人と一緒にうみほし公園で星空をご覧になりませんか？ \n  \n★☆★☆★☆★☆★☆★☆★☆★☆★☆★☆イベント詳細★☆★☆★☆★☆★☆★☆★☆★☆★☆★☆ \n日時：2021年12月25日（土）　17時-21時 \n場所：うみほし公園内　\n※セミナーハウスにて、星空観察スポットの紹介や星空観察ツールのレンタル（有料）をしています。 \n参加費：無料 \n※星空の解説などはありません。ご来園いただいた皆様でご自由に星空をお楽しみいただくイベントです。 \n★☆★☆★☆★☆★☆★☆★☆★☆★☆★☆★☆★☆★☆★☆★☆★☆★☆★☆★☆★☆★☆★☆★☆ \n
URL:http://www.eco-future-park.jp/event/%e6%98%9f%e7%a9%ba%e8%a6%b3%e6%9c%9b%e4%bc%9a%e3%80%8812%e6%9c%88%e3%81%9d%e3%81%ae2%e3%80%89%e8%81%96%e3%81%aa%e3%82%8b%e5%a4%9c%e3%81%ae%e6%98%9f%e3%82%92%e7%9c%ba%e3%82%81%e3%82%88%e3%81%86/
LOCATION:京都府立丹後海と星の見える丘公園\, 里波見\, 宮津市\, 京都府\, 626-0211\, Japan
CATEGORIES:星空情報
ATTACH;FMTTYPE=image/jpeg:http://www.eco-future-park.jp/umihoshi/wp-content/uploads/2021/04/2c5348ce54d6f7b1b415857c124de550.jpg
END:VEVENT
END:VCALENDAR