BEGIN:VCALENDAR
VERSION:2.0
PRODID:-//丹後海と星の見える丘公園-TANGO ECO FUTURE PARK- - ECPv4.9.2//NONSGML v1.0//EN
CALSCALE:GREGORIAN
METHOD:PUBLISH
X-WR-CALNAME:丹後海と星の見える丘公園-TANGO ECO FUTURE PARK-
X-ORIGINAL-URL:http://www.eco-future-park.jp
X-WR-CALDESC:Events for 丹後海と星の見える丘公園-TANGO ECO FUTURE PARK-
BEGIN:VEVENT
DTSTART;TZID=Asia/Tokyo:20210417T170000
DTEND;TZID=Asia/Tokyo:20210417T210000
DTSTAMP:20260422T040052
CREATED:20210411T075641Z
LAST-MODIFIED:20210411T080532Z
UID:3233-1618678800-1618693200@www.eco-future-park.jp
SUMMARY:星空観望会〈4月〉冬の星座と春の星座を楽しみましょう★
DESCRIPTION:４月になり、園内では春の野草が森を彩っています。 \n夜空では、冬の星座が見納めになるのと同時に、春の星々が姿を現してきます。 \n冬の星座は、すべての星空のなかで一番明るいシリウスやオリオン座。\n春の星座では、北斗七星やしし座、おとめ座が見えてきます。\nまた、それらを結ぶと、夜空をまたぐ春の大曲線となります。 \n画像では、見えるのは北斗七星の曲線の先にある1等星のアルクトゥルスとスピカが見えています。 \n冬と春の星座を一緒に楽しみましょう★ \n★☆★☆★☆★☆★☆★☆★☆★☆★☆★☆イベント詳細★☆★☆★☆★☆★☆★☆★☆★☆★☆★☆ \n日時：2021年4月17日（土）　17時-21時 \n場所：うみほし公園内　※セミナーハウスにて、星空観察スポットの紹介をしています。 \n参加費：無料 \n※星空の解説などはありません。ご来園いただいた皆様でご自由に星空をお楽しみいただくイベントです。 \n★☆★☆★☆★☆★☆★☆★☆★☆★☆★☆★☆★☆★☆★☆★☆★☆★☆★☆★☆★☆★☆★☆★☆ \n
URL:http://www.eco-future-park.jp/event/%e6%98%9f%e7%a9%ba%e8%a6%b3%e6%9c%9b%e4%bc%9a%e3%80%884%e6%9c%88%e3%80%89%e5%86%ac%e3%81%ae%e6%98%9f%e5%ba%a7%e3%81%a8%e6%98%a5%e3%81%ae%e6%98%9f%e5%ba%a7%e3%81%8c%e6%a5%bd%e3%81%97%e3%81%bf%e3%81%be/
CATEGORIES:イベント,星空情報
ATTACH;FMTTYPE=image/jpeg:http://www.eco-future-park.jp/umihoshi/wp-content/uploads/2021/04/c0a1b26bf60b4d1b58d2842aa911f03c.jpg
END:VEVENT
END:VCALENDAR