BEGIN:VCALENDAR
VERSION:2.0
PRODID:-//丹後海と星の見える丘公園-TANGO ECO FUTURE PARK- - ECPv4.9.2//NONSGML v1.0//EN
CALSCALE:GREGORIAN
METHOD:PUBLISH
X-WR-CALNAME:丹後海と星の見える丘公園-TANGO ECO FUTURE PARK-
X-ORIGINAL-URL:http://www.eco-future-park.jp
X-WR-CALDESC:Events for 丹後海と星の見える丘公園-TANGO ECO FUTURE PARK-
BEGIN:VEVENT
DTSTART;TZID=Asia/Tokyo:20230520T170000
DTEND;TZID=Asia/Tokyo:20230520T210000
DTSTAMP:20260422T113150
CREATED:20230513T155311Z
LAST-MODIFIED:20230828T022140Z
UID:4929-1684602000-1684616400@www.eco-future-park.jp
SUMMARY:星空観望会〈5月〉春の曲線、三角、？を探してみよう！
DESCRIPTION:森の中ではウグイスが鳴き、ハッチョウトンボが飛び始め、木々は新芽から新緑へと移り変わってきています。 \n夜空も春の星座たちが、20時ごろに頭上に来るようになってきました。 \n1等星が多い冬の星座から少し落ち着いていますが、春にも大三角や大曲線があり、さらに「？」を反対に向けた形の「獅子の大ガマ」というものもあります。\n獅子の大ガマが見つかれば、近くには若い星々の集まりである「プレセぺ星団」も見つけられます。 \n夜も出やすい季節になりました。 \nうみほし公園で双眼鏡片手に星空散歩をしませんか？ \n★☆★☆★☆★☆★☆★☆★☆★☆★☆★☆イベント詳細★☆★☆★☆★☆★☆★☆★☆★☆★☆★☆ \n日時：2023年5月20日（土）　17時-21時 \n場所：うみほし公園内\n※セミナーハウスにて、星空観察スポットの紹介や星空観察ツールのレンタル（有料）をしています。 \n参加費：無料 \n※基本的に星空の解説などはありません。ご来園いただいた皆様でご自由に星空をお楽しみいただくイベントです。 \n★☆★☆★☆★☆★☆★☆★☆★☆★☆★☆★☆★☆★☆★☆★☆★☆★☆★☆★☆★☆★☆★☆★☆ \n
URL:http://www.eco-future-park.jp/event/%e6%98%9f%e7%a9%ba%e8%a6%b3%e6%9c%9b%e4%bc%9a%e3%80%885%e6%9c%88%e3%80%89%e6%98%a5%e3%81%ae%e6%9b%b2%e7%b7%9a%e3%80%81%e4%b8%89%e8%a7%92%e3%80%81%ef%bc%9f%e3%82%92%e6%8e%a2%e3%81%97%e3%81%a6%e3%81%bf/
CATEGORIES:星空情報
END:VEVENT
END:VCALENDAR