BEGIN:VCALENDAR
VERSION:2.0
PRODID:-//丹後海と星の見える丘公園-TANGO ECO FUTURE PARK- - ECPv4.9.2//NONSGML v1.0//EN
CALSCALE:GREGORIAN
METHOD:PUBLISH
X-WR-CALNAME:丹後海と星の見える丘公園-TANGO ECO FUTURE PARK-
X-ORIGINAL-URL:http://www.eco-future-park.jp
X-WR-CALDESC:Events for 丹後海と星の見える丘公園-TANGO ECO FUTURE PARK-
BEGIN:VEVENT
DTSTART;TZID=Asia/Tokyo:20210626T170000
DTEND;TZID=Asia/Tokyo:20210626T210000
DTSTAMP:20260421T221215
CREATED:20210602T084542Z
LAST-MODIFIED:20210612T040859Z
UID:3447-1624726800-1624741200@www.eco-future-park.jp
SUMMARY:星空観望会〈6月〉夏の星座が見えてくる！
DESCRIPTION:６月も下旬になると、２０時頃でも夏の星空が見えやすくなってきます。 \n宮津市内の方向にはアンタレスという赤い星が輝く、「さそり座」 \n舞鶴市方向には、有名な夏の大三角を形作る「はくちょう座」「こと座」「わし座」 \n伊根町方向には、春の星の「北斗七星」や「春の大曲線」もまだまだ見ることができます。 \nなかなか、外出しづらい日が続いていますが、野外でディスタンスもとれる公園でゆったり星空を見られてはどうでしょうか。 \n※緊急事態宣言が延長される等、状況によっては中止になる場合があります。 \n　開催状況につきましては、公園HPやSNSをご覧ください。 \n  \n \n  \n★☆★☆★☆★☆★☆★☆★☆★☆★☆★☆イベント詳細★☆★☆★☆★☆★☆★☆★☆★☆★☆★☆ \n日時：2021年6月26日（土）　17時-21時 \n場所：うみほし公園内　※セミナーハウスにて、星空観察スポットの紹介をしています。 \n参加費：無料 \n※星空の解説などはありません。ご来園いただいた皆様でご自由に星空をお楽しみいただくイベントです。 \n★☆★☆★☆★☆★☆★☆★☆★☆★☆★☆★☆★☆★☆★☆★☆★☆★☆★☆★☆★☆★☆★☆★☆ \n
URL:http://www.eco-future-park.jp/event/%e6%98%9f%e7%a9%ba%e8%a6%b3%e6%9c%9b%e4%bc%9a%e3%80%886%e6%9c%88%e3%80%89%e5%a4%8f%e3%81%ae%e6%98%9f%e5%ba%a7%e3%81%8c%e8%a6%8b%e3%81%88%e3%81%a6%e3%81%8f%e3%82%8b%ef%bc%81/
CATEGORIES:イベント,星空情報
ATTACH;FMTTYPE=image/jpeg:http://www.eco-future-park.jp/umihoshi/wp-content/uploads/slider60/TAKURO.jpeg
END:VEVENT
END:VCALENDAR