BEGIN:VCALENDAR
VERSION:2.0
PRODID:-//丹後海と星の見える丘公園-TANGO ECO FUTURE PARK- - ECPv4.9.2//NONSGML v1.0//EN
CALSCALE:GREGORIAN
METHOD:PUBLISH
X-WR-CALNAME:丹後海と星の見える丘公園-TANGO ECO FUTURE PARK-
X-ORIGINAL-URL:http://www.eco-future-park.jp
X-WR-CALDESC:Events for 丹後海と星の見える丘公園-TANGO ECO FUTURE PARK-
BEGIN:VEVENT
DTSTART;TZID=Asia/Tokyo:20210812T180000
DTEND;TZID=Asia/Tokyo:20210812T210000
DTSTAMP:20260422T024733
CREATED:20210809T122708Z
LAST-MODIFIED:20210809T123020Z
UID:3661-1628791200-1628802000@www.eco-future-park.jp
SUMMARY:星空観望会〈8月〉ペルセウス座流星群を見てみよう！
DESCRIPTION:８月の星空イベントといえば、ペルセウス座流星群です！ \n流れ星を見ることができたら、子どもから大人までみんな嬉しくなります(^^) \nそんなペルセウス座流星群が良く見える日（極大日）が８月１３日です。 \n１日違いですが、晴れていればよく見えるかと思います。 \n21時までの時間ですが、昨年もいくつも見た！という方がいましたよ? \nあとは、天気が晴れるのを祈るだけです✨ \nご来園、お待ちしています★ \nとっくり \n  \n★☆★☆★☆★☆★☆★☆★☆★☆★☆★☆イベント詳細★☆★☆★☆★☆★☆★☆★☆★☆★☆★☆ \n日時：2021年8月12日（木）　17時-21時 \n場所：うみほし公園内　※セミナーハウスにて、星空観察スポットの紹介をしています。 \n参加費：無料 \n※星空の解説などはありません。ご来園いただいた皆様でご自由に星空をお楽しみいただくイベントです。 \n★☆★☆★☆★☆★☆★☆★☆★☆★☆★☆★☆★☆★☆★☆★☆★☆★☆★☆★☆★☆★☆★☆★☆ \n
URL:http://www.eco-future-park.jp/event/%e6%98%9f%e7%a9%ba%e8%a6%b3%e6%9c%9b%e4%bc%9a%e3%80%888%e6%9c%88%e3%80%89%e3%83%9a%e3%83%ab%e3%82%bb%e3%82%a6%e3%82%b9%e5%ba%a7%e6%b5%81%e6%98%9f%e7%be%a4%e3%82%92%e8%a6%8b%e3%81%a6%e3%81%bf%e3%82%88/
CATEGORIES:星空情報
ATTACH;FMTTYPE=image/jpeg:http://www.eco-future-park.jp/umihoshi/wp-content/uploads/2020/10/TAKURO12.jpg
END:VEVENT
END:VCALENDAR