BEGIN:VCALENDAR
VERSION:2.0
PRODID:-//丹後海と星の見える丘公園-TANGO ECO FUTURE PARK- - ECPv4.9.2//NONSGML v1.0//EN
CALSCALE:GREGORIAN
METHOD:PUBLISH
X-WR-CALNAME:丹後海と星の見える丘公園-TANGO ECO FUTURE PARK-
X-ORIGINAL-URL:http://www.eco-future-park.jp
X-WR-CALDESC:Events for 丹後海と星の見える丘公園-TANGO ECO FUTURE PARK-
BEGIN:VEVENT
DTSTART;TZID=Asia/Tokyo:20230325T170000
DTEND;TZID=Asia/Tokyo:20230325T210000
DTSTAMP:20260422T074640
CREATED:20230208T060526Z
LAST-MODIFIED:20230828T022242Z
UID:4804-1679763600-1679778000@www.eco-future-park.jp
SUMMARY:星空観望会スペシャル〈３月〉星のソムリエ®が集う夜☆
DESCRIPTION:今年度最後の星空観望会はスペシャル企画です。 \n星のソムリエ?とは \n「豊かな知識と経験からおいしいワインを選んでくれるソムリエのように、星空や宇宙の楽しみかたを教えてくれる人」のことです。 \n天文学や星空文化の知識から、天体望遠鏡の取り扱い・星空解説まで星空案内に必要な幅広い知識と技能を習得し、認定されています。 \n今回は、そんな星のスペシャリストのソムリエの方々にお集まりいただき、星空観望会を開催いたします。 \n星のこと、星座のこと、宇宙のこと、天体望遠鏡のこと、星空についてちょっと知りたい方、この機会にぜひぜひお越しください。 \n曇り、雨の日でも室内でプチプラネタリウムがあるので、お楽しみに★ \n\n★☆★☆★☆★☆★☆★☆★☆★☆★☆★☆イベント詳細★☆★☆★☆★☆★☆★☆★☆★☆★☆★☆\n\n\n \n\n\n日時：2023年3月25日（土）　17時-21時\n\n\n \n\n\n場所：うみほし公園内　\n\n\n※セミナーハウスにて、星空観察スポットの紹介や星空観察ツールのレンタル（有料）をしています。\n\n\n \n参加費：無料\n \n内容：星のソムリエが園内にいるので、星空のことを聞いてみたり、天体望遠鏡を覗いてみたり、お楽しみください。\n \n\n\n\n\n※星空が観えない時はセミナーハウス研修室でプチプラネタリウムを開催します。\n※積雪の状況によっては中止とさせていただくことがあります。\n \n\n\n\n\n★☆★☆★☆★☆★☆★☆★☆★☆★☆★☆★☆★☆★☆★☆★☆★☆★☆★☆★☆★☆★☆★☆★☆\n\n
URL:http://www.eco-future-park.jp/event/%e6%98%9f%e7%a9%ba%e8%a6%b3%e6%9c%9b%e4%bc%9a%e3%82%b9%e3%83%9a%e3%82%b7%e3%83%a3%e3%83%ab%e3%80%88%ef%bc%93%e6%9c%88%e3%80%89%e6%98%9f%e3%81%ae%e3%82%bd%e3%83%a0%e3%83%aa%e3%82%a8%e3%81%8c/
CATEGORIES:星空情報
ATTACH;FMTTYPE=image/jpeg:http://www.eco-future-park.jp/umihoshi/wp-content/uploads/2021/04/2c5348ce54d6f7b1b415857c124de550.jpg
END:VEVENT
END:VCALENDAR