BEGIN:VCALENDAR
VERSION:2.0
PRODID:-//丹後海と星の見える丘公園-TANGO ECO FUTURE PARK- - ECPv4.9.2//NONSGML v1.0//EN
CALSCALE:GREGORIAN
METHOD:PUBLISH
X-WR-CALNAME:丹後海と星の見える丘公園-TANGO ECO FUTURE PARK-
X-ORIGINAL-URL:http://www.eco-future-park.jp
X-WR-CALDESC:Events for 丹後海と星の見える丘公園-TANGO ECO FUTURE PARK-
BEGIN:VEVENT
DTSTART;TZID=Asia/Tokyo:20211128T080000
DTEND;TZID=Asia/Tokyo:20211226T170000
DTSTAMP:20260422T131504
CREATED:20211011T005557Z
LAST-MODIFIED:20211123T043322Z
UID:3757-1638086400-1640538000@www.eco-future-park.jp
SUMMARY:? 森づくりDAY ?　（10・11・12月）
DESCRIPTION:公園スタッフと森の生態系を感じながら森づくりを行います！ \n  \n \n \n\n11月の内容 \nAM　森の手入れしてみよう！ \n木を切ってみたりきれいな森をつくる森へのお手伝いをします。 \nPM　森を歩いてみよう！ \n森を歩きながらドングリや木の実を拾います。 \n  \n持ち物 \n〇服装（長袖・長ズボン）＋寒いときに着る上着1着（当日は寒くなる可能性もあるため） \n〇シューズ（動きやすいモノ・靴下　※サンダル不可・雨天時は長靴 \n〇帽子 \n〇軍手 \n〇タオル \n〇飲料水（各回500cc以上、大人は各１ℓ以上） \n〇マスク（活動時は外す） \n\n  \n\n\n\n開催日時\n\n2021年10月24日（日） \n　　　  11月28日（日） \n　　　  12月26日（日） \n\n①午前の部（10:30～12:00）\n　　　　■森づくりDAY \n②午後の部（13:30～15:00）\n　　　　■森づくりDAY \n\n\n\n集合場所\n京都府立丹後海と星の見える丘公園\n　　こどもの森　ワークショップルーム\n\n\n対象\n小学生以上（相談可）\n\n\n参加費\n\n森づくりDAY　無料 \n\n\n\n申込\n予約優先\n\n\n定員\n\n森づくりDAY　10名 \n\n\n\n\n※お申し込みの方には再度詳細をお送りします。 \n※ご来園の際は新型コロナウイルス感染症対策の程、お願いいたします。 \n[contact-form-7 404 "Not Found"]\n
URL:http://www.eco-future-park.jp/event/%f0%9f%8c%b3-%e6%a3%ae%e3%81%a5%e3%81%8f%e3%82%8aday-%f0%9f%8c%b3%e3%80%80%ef%bc%8810%e3%83%bb11%e3%83%bb12%e6%9c%88%ef%bc%89/
CATEGORIES:イベント,うみほしプレーパーク
ATTACH;FMTTYPE=image/jpeg:http://www.eco-future-park.jp/umihoshi/wp-content/uploads/2021/07/37e3808047553cedb34daa9b1d7ab2a3-1.jpg
END:VEVENT
END:VCALENDAR