BEGIN:VCALENDAR
VERSION:2.0
PRODID:-//丹後海と星の見える丘公園-TANGO ECO FUTURE PARK- - ECPv4.9.2//NONSGML v1.0//EN
CALSCALE:GREGORIAN
METHOD:PUBLISH
X-WR-CALNAME:丹後海と星の見える丘公園-TANGO ECO FUTURE PARK-
X-ORIGINAL-URL:http://www.eco-future-park.jp
X-WR-CALDESC:Events for 丹後海と星の見える丘公園-TANGO ECO FUTURE PARK-
BEGIN:VEVENT
DTSTART;TZID=Asia/Tokyo:20260711T133000
DTEND;TZID=Asia/Tokyo:20260711T153000
DTSTAMP:20260422T052507
CREATED:20260422T024420Z
LAST-MODIFIED:20260422T024534Z
UID:7621-1783776600-1783783800@www.eco-future-park.jp
SUMMARY:7/11（土）福田美佳ミニコンサート『オペラ　蝶々夫人』
DESCRIPTION:うみほし公園20周年記念公演 \nイタリアの美しき唱法ベルカント \n福田美佳ミニコンサート『オペラ　蝶々夫人』 \n \n福田　美佳 　Mika Fukuda \nプロフィールーーーーーーーーーーーーーーーーーーーーーーーーー \nオペラ歌手。Soprano Lirico Puro(純粋なリリック・ソプラノ) \n大阪音楽大学声楽専攻首席卒業。 \n大阪音楽大学大学院オペラ研修室修了。 \n関西二期会オペラスタジオ首席修了。 \nイタリア国立パルマ音楽院(Conservatorio di Parma”Arrigo Boito”）オペラ科を優秀成績で規定より1年早く修了。 \nディプロマ-ラウレア(Diploma-Laurea)取得。 \nイタリア政府招聘給費留学生(Borsista del Governo Italiano)。 \nロータリーインターナショナル財団奨学生。(Borsista del Rotary club international)。 \n  \n大阪いずみホールでの帰国リサイタルをはじめ、全国各地でのリサイタルは2025年 6月北海道釧路で第28回となる。 \n2001年東京・大阪でのリサイタル（ピアノSimone Savina:パルマ歌劇場専属）は、イタリア政府より「日本におけるイタリア」公式プログラムに認定される。 \nイタリアにおいてはシエナ大聖堂コンサートＴＶ放映・San Secondo・Parma・Torrile・Varsi・Busseto各市主催のリサイタル他、各地で演奏。Parmaでのリサイタルは好評のため再演される。「蝶々夫人」”蝶々さん”、「ドン・カルロ」“エリザベッタ”、「愛の妙薬」”アディーナ”、「修道女アンジェリカ」“アンジェリカ”、「コジ・ファン・トゥッテ」”フィオルディリージ”、「フィガロの結婚」”スザンナ”、「領事」主役”マグダ”、「細川ガラシャ」“ガラシャ”、フィリピン大使館主催日比共同制作「Ukon Takayama」“ガラシア”他、多数のオペラに主役級で出演、伝統的なベルカント唱法を受け継ぐ歌手としていずれも高い評価を得る。新国立劇場（文部省オペラ年鑑掲載)大阪市中央公会堂をはじめ、東京・大阪・京都に於いて出演した「蝶々夫人」でのベルカント歌唱・表現を認められ、イタリア政府外務省文化支援団体”ダンテ・アリギエーリ協会”のもとにオペラ団「オペラ大阪」をプロデュース。イタリアの伝統を大切にしたオペラ公演でベル・カント唱法のテクニックを持つ歌手の育成に力を注ぐ一方、オンラインレッスンを含め、イタリアと日本に於いてイタリア正統派ベル カントの指導にあたっている。 \n2020年8月、京都市の支援を受け、イタリアに於いて世界で活躍する音響技術者Andrea Rovacchi氏と共に、LPレコードのレコーディングを行なう。 \n第28回イタリア声楽コンコルソ（東京）、第2回R.レオンカヴァッロ国際オペラコンクール（イタリア）、第40回G.ヴェルディ国際オペラコンクール(イタリア）フィナリスタ。 \n大阪府芸術劇場奨励新人賞受賞。 \nベル カントをLucetta Bizzi女史、Daniela Longhi女史、声楽を故浦山弘三氏、原田研一氏に、イタリアオペラをEugenio Furlotti氏、イタリア舞台演技をMarcello Conati氏に師事。 \nーーーーーーーーーーーーーーーーーーーーーーーーーーーーーーーーーーーーーーーーーーーー \n福田美佳ミニコンサート『オペラ　蝶々夫人』 \n日時：７月１１日（土） \n会場：丹後海と星の見える丘公園　研修室 \n対象：小学生以上 \n入場料：2\,500円（お茶会代含む） \n※事前支払い必須 \n【公園窓口もしくは、お振込み】 \nお申し込み後にメールにてご案内させていただきます。 \n  \n～当日のスケジュール～ \n13:30　入場 \n14:00　開園 \n　　　『オペラ蝶々夫人』 \n14:30　終演予定 \n14:45　お茶会 \n15:30　解散予定 \n  \n蝶々夫人について \n『蝶々夫人』は、ジャコモ・プッチーニが作曲したオペラで、明治時代の長崎を舞台にしています。このオペラは、アメリカ海軍士官のピンカートンと、彼の現地妻としての蝶々さんとの愛の物語を描いています。蝶々さんは武士の家柄で育ちましたが、父親が切腹し、芸者としての生活を強いられました。ピンカートンとの結婚は、彼女の純粋な愛情を象徴していますが、彼のアメリカへの帰国後、蝶々さんは彼に会うことを諦め、自害を決意します。 \n  \nピアニスト　大塚　路子 Michiko Otuka \n \n  \nお申し込みは、下記の申込フォームに入力ください。 \n\n\n\n\n\n\n\n\n\n\n\nJapan \n\nお申込みフォーム\n※は必須項目 \n\n《下記フォームにご記入ください》\n お名前 (必須)\n      \n\nフリガナ※\n\n \n 電話番号（当日確認ができる電話番号） (必須)\n \n メールアドレス (必須)\n      \n\nこのプログラムを何で知りましたか？\nうみほし通信学校からのチラシ家族・知人からの紹介テレビ・ラジオ公園ホームページ公園facebookみやづお知らせ版府民だより新聞その他 \n\n\n今後、当公園からイベント等のご案内をお送りさせていただいても良いでしょうか？\n希望する希望しない \n\n \n \n\n \n\n  \n
URL:http://www.eco-future-park.jp/event/7-11%ef%bc%88%e5%9c%9f%ef%bc%89%e7%a6%8f%e7%94%b0%e7%be%8e%e9%a6%99%e3%83%9f%e3%83%8b%e3%82%b3%e3%83%b3%e3%82%b5%e3%83%bc%e3%83%88%e3%80%8e%e3%82%aa%e3%83%9a%e3%83%a9%e3%80%80%e8%9d%b6%e3%80%85/
LOCATION:京都府立丹後海と星の見える丘公園\, 里波見\, 宮津市\, 京都府\, 626-0211\, Japan
CATEGORIES:イベント
ATTACH;FMTTYPE=image/jpeg:http://www.eco-future-park.jp/umihoshi/wp-content/uploads/2026/04/IMG_1043-scaled.jpg
END:VEVENT
END:VCALENDAR